BEGIN:VCALENDAR
VERSION:2.0
PRODID:-//The Farm - ECPv6.2.3.2//NONSGML v1.0//EN
CALSCALE:GREGORIAN
METHOD:PUBLISH
X-ORIGINAL-URL:https://ffh.farm
X-WR-CALDESC:Events for The Farm
REFRESH-INTERVAL;VALUE=DURATION:PT1H
X-Robots-Tag:noindex
X-PUBLISHED-TTL:PT1H
BEGIN:VTIMEZONE
TZID:Australia/Sydney
BEGIN:STANDARD
TZOFFSETFROM:+1100
TZOFFSETTO:+1000
TZNAME:AEST
DTSTART:20240406T160000
END:STANDARD
BEGIN:DAYLIGHT
TZOFFSETFROM:+1000
TZOFFSETTO:+1100
TZNAME:AEDT
DTSTART:20241005T160000
END:DAYLIGHT
END:VTIMEZONE
BEGIN:VEVENT
DTSTART;TZID=Australia/Sydney:20240105T140000
DTEND;TZID=Australia/Sydney:20240108T100000
DTSTAMP:20260424T085543
CREATED:20231205T004132Z
LAST-MODIFIED:20231205T004132Z
UID:10000035-1704463200-1704708000@ffh.farm
SUMMARY:Booking - House 2 - #5087
DESCRIPTION:
URL:https://ffh.farm/event/booking-house-2-5087/
CATEGORIES:Accommodation Bookings
END:VEVENT
BEGIN:VEVENT
DTSTART;TZID=Australia/Sydney:20240112T140000
DTEND;TZID=Australia/Sydney:20240114T100000
DTSTAMP:20260424T085543
CREATED:20240102T055144Z
LAST-MODIFIED:20240208T030902Z
UID:10000055-1705068000-1705226400@ffh.farm
SUMMARY:Booking - Parents Retreat - #5166
DESCRIPTION:
URL:https://ffh.farm/event/booking-parents-retreat-5166/
CATEGORIES:Accommodation Bookings
END:VEVENT
BEGIN:VEVENT
DTSTART;TZID=Australia/Sydney:20240112T140000
DTEND;TZID=Australia/Sydney:20240115T100000
DTSTAMP:20260424T085543
CREATED:20240108T113225Z
LAST-MODIFIED:20240108T113225Z
UID:10000057-1705068000-1705312800@ffh.farm
SUMMARY:Booking - House 2 - #5171
DESCRIPTION:
URL:https://ffh.farm/event/booking-house-2-5171/
CATEGORIES:Accommodation Bookings
END:VEVENT
BEGIN:VEVENT
DTSTART;TZID=Australia/Sydney:20240113T140000
DTEND;TZID=Australia/Sydney:20240114T100000
DTSTAMP:20260424T085543
CREATED:20240103T115109Z
LAST-MODIFIED:20240103T115109Z
UID:10000056-1705154400-1705226400@ffh.farm
SUMMARY:Booking - Parents Retreat - #5168
DESCRIPTION:
URL:https://ffh.farm/event/booking-parents-retreat-5168/
CATEGORIES:Accommodation Bookings
END:VEVENT
BEGIN:VEVENT
DTSTART;TZID=Australia/Sydney:20240120T140000
DTEND;TZID=Australia/Sydney:20240121T100000
DTSTAMP:20260424T085543
CREATED:20240121T210618Z
LAST-MODIFIED:20240121T210618Z
UID:10000050-1705759200-1705831200@ffh.farm
SUMMARY:Booking - Parents Retreat - #5136
DESCRIPTION:
URL:https://ffh.farm/event/booking-parents-retreat-5136/
CATEGORIES:Accommodation Bookings
END:VEVENT
BEGIN:VEVENT
DTSTART;TZID=Australia/Sydney:20240120T140000
DTEND;TZID=Australia/Sydney:20240121T100000
DTSTAMP:20260424T085543
CREATED:20240121T210654Z
LAST-MODIFIED:20240121T210654Z
UID:10000041-1705759200-1705831200@ffh.farm
SUMMARY:Booking - House 2 - #5105
DESCRIPTION:
URL:https://ffh.farm/event/booking-house-2-5105/
CATEGORIES:Accommodation Bookings
END:VEVENT
BEGIN:VEVENT
DTSTART;TZID=Australia/Sydney:20240126T140000
DTEND;TZID=Australia/Sydney:20240129T100000
DTSTAMP:20260424T085543
CREATED:20231205T002859Z
LAST-MODIFIED:20231205T002859Z
UID:10000029-1706277600-1706522400@ffh.farm
SUMMARY:Booking - House 2 - #5052
DESCRIPTION:
URL:https://ffh.farm/event/accommodation-booking-3/
CATEGORIES:Accommodation Bookings
END:VEVENT
END:VCALENDAR