BEGIN:VCALENDAR
VERSION:2.0
PRODID:-//The Farm - ECPv6.2.3.2//NONSGML v1.0//EN
CALSCALE:GREGORIAN
METHOD:PUBLISH
X-ORIGINAL-URL:https://ffh.farm
X-WR-CALDESC:Events for The Farm
REFRESH-INTERVAL;VALUE=DURATION:PT1H
X-Robots-Tag:noindex
X-PUBLISHED-TTL:PT1H
BEGIN:VTIMEZONE
TZID:Australia/Sydney
BEGIN:STANDARD
TZOFFSETFROM:+1100
TZOFFSETTO:+1000
TZNAME:AEST
DTSTART:20240406T160000
END:STANDARD
BEGIN:DAYLIGHT
TZOFFSETFROM:+1000
TZOFFSETTO:+1100
TZNAME:AEDT
DTSTART:20241005T160000
END:DAYLIGHT
END:VTIMEZONE
BEGIN:VEVENT
DTSTART;TZID=Australia/Sydney:20240329T140000
DTEND;TZID=Australia/Sydney:20240401T100000
DTSTAMP:20260424T041807
CREATED:20240217T025059Z
LAST-MODIFIED:20240217T025059Z
UID:10000090-1711720800-1711965600@ffh.farm
SUMMARY:Booking - Parents Retreat - #5364
DESCRIPTION:
URL:https://ffh.farm/event/booking-parents-retreat-5364/
CATEGORIES:Accommodation Bookings
END:VEVENT
BEGIN:VEVENT
DTSTART;TZID=Australia/Sydney:20240329T140000
DTEND;TZID=Australia/Sydney:20240401T100000
DTSTAMP:20260424T041807
CREATED:20240217T034236Z
LAST-MODIFIED:20240217T034236Z
UID:10000061-1711720800-1711965600@ffh.farm
SUMMARY:Booking - House 2 - #5247
DESCRIPTION:
URL:https://ffh.farm/event/booking-house-2-5247/
CATEGORIES:Accommodation Bookings
END:VEVENT
BEGIN:VEVENT
DTSTART;TZID=Australia/Sydney:20240419T140000
DTEND;TZID=Australia/Sydney:20240421T100000
DTSTAMP:20260424T041807
CREATED:20240221T081657Z
LAST-MODIFIED:20240221T081657Z
UID:10000141-1713535200-1713693600@ffh.farm
SUMMARY:Booking - House 2 - #5428
DESCRIPTION:
URL:https://ffh.farm/event/booking-house-2-5428/
CATEGORIES:Accommodation Bookings
END:VEVENT
BEGIN:VEVENT
DTSTART;TZID=Australia/Sydney:20240422T140000
DTEND;TZID=Australia/Sydney:20240424T100000
DTSTAMP:20260424T041807
CREATED:20240317T071530Z
LAST-MODIFIED:20240317T071530Z
UID:10000170-1713794400-1713952800@ffh.farm
SUMMARY:Booking - Parents Retreat - #5708
DESCRIPTION:
URL:https://ffh.farm/event/booking-parents-retreat-5708/
CATEGORIES:Accommodation Bookings
END:VEVENT
BEGIN:VEVENT
DTSTART;TZID=Australia/Sydney:20240426T140000
DTEND;TZID=Australia/Sydney:20240428T100000
DTSTAMP:20260424T041807
CREATED:20240417T024948Z
LAST-MODIFIED:20240417T024948Z
UID:10000174-1714140000-1714298400@ffh.farm
SUMMARY:Booking - House 2 - #5788
DESCRIPTION:
URL:https://ffh.farm/event/booking-house-2-5788/
CATEGORIES:Accommodation Bookings
END:VEVENT
END:VCALENDAR