BEGIN:VCALENDAR
VERSION:2.0
PRODID:-//The Farm - ECPv6.2.3.2//NONSGML v1.0//EN
CALSCALE:GREGORIAN
METHOD:PUBLISH
X-WR-CALNAME:The Farm
X-ORIGINAL-URL:https://ffh.farm
X-WR-CALDESC:Events for The Farm
REFRESH-INTERVAL;VALUE=DURATION:PT1H
X-Robots-Tag:noindex
X-PUBLISHED-TTL:PT1H
BEGIN:VTIMEZONE
TZID:Australia/Sydney
BEGIN:STANDARD
TZOFFSETFROM:+1100
TZOFFSETTO:+1000
TZNAME:AEST
DTSTART:20230401T160000
END:STANDARD
BEGIN:DAYLIGHT
TZOFFSETFROM:+1000
TZOFFSETTO:+1100
TZNAME:AEDT
DTSTART:20230930T160000
END:DAYLIGHT
END:VTIMEZONE
BEGIN:VEVENT
DTSTART;TZID=Australia/Sydney:20231127T140000
DTEND;TZID=Australia/Sydney:20231129T100000
DTSTAMP:20260424T113408
CREATED:20231129T100918Z
LAST-MODIFIED:20231129T100918Z
UID:10000031-1701093600-1701252000@ffh.farm
SUMMARY:Booking - House 2 - #4846
DESCRIPTION:
URL:https://ffh.farm/event/booking-house-2-4846/
CATEGORIES:Accommodation Bookings
END:VEVENT
END:VCALENDAR