BEGIN:VCALENDAR
VERSION:2.0
PRODID:-//The Farm - ECPv6.2.3.2//NONSGML v1.0//EN
CALSCALE:GREGORIAN
METHOD:PUBLISH
X-WR-CALNAME:The Farm
X-ORIGINAL-URL:https://ffh.farm
X-WR-CALDESC:Events for The Farm
REFRESH-INTERVAL;VALUE=DURATION:PT1H
X-Robots-Tag:noindex
X-PUBLISHED-TTL:PT1H
BEGIN:VTIMEZONE
TZID:Australia/Sydney
BEGIN:STANDARD
TZOFFSETFROM:+1100
TZOFFSETTO:+1000
TZNAME:AEST
DTSTART:20250405T160000
END:STANDARD
BEGIN:DAYLIGHT
TZOFFSETFROM:+1000
TZOFFSETTO:+1100
TZNAME:AEDT
DTSTART:20251004T160000
END:DAYLIGHT
END:VTIMEZONE
BEGIN:VEVENT
DTSTART;TZID=Australia/Sydney:20250103T140000
DTEND;TZID=Australia/Sydney:20250108T100000
DTSTAMP:20260423T173151
CREATED:20240727T001705Z
LAST-MODIFIED:20240727T001705Z
UID:10000222-1735912800-1736330400@ffh.farm
SUMMARY:Booking - House 2 - #6132
DESCRIPTION:
URL:https://ffh.farm/event/booking-house-2-6132/
CATEGORIES:Accommodation Bookings
END:VEVENT
BEGIN:VEVENT
DTSTART;TZID=Australia/Sydney:20250103T140000
DTEND;TZID=Australia/Sydney:20250108T100000
DTSTAMP:20260423T173151
CREATED:20240727T001707Z
LAST-MODIFIED:20240727T001707Z
UID:10000223-1735912800-1736330400@ffh.farm
SUMMARY:Booking - Parents Retreat - #6133
DESCRIPTION:
URL:https://ffh.farm/event/booking-parents-retreat-6133/
CATEGORIES:Accommodation Bookings
END:VEVENT
END:VCALENDAR