BEGIN:VCALENDAR
VERSION:2.0
PRODID:-//The Farm - ECPv6.2.3.2//NONSGML v1.0//EN
CALSCALE:GREGORIAN
METHOD:PUBLISH
X-ORIGINAL-URL:https://ffh.farm
X-WR-CALDESC:Events for The Farm
REFRESH-INTERVAL;VALUE=DURATION:PT1H
X-Robots-Tag:noindex
X-PUBLISHED-TTL:PT1H
BEGIN:VTIMEZONE
TZID:Australia/Sydney
BEGIN:STANDARD
TZOFFSETFROM:+1100
TZOFFSETTO:+1000
TZNAME:AEST
DTSTART:20240406T160000
END:STANDARD
BEGIN:DAYLIGHT
TZOFFSETFROM:+1000
TZOFFSETTO:+1100
TZNAME:AEDT
DTSTART:20241005T160000
END:DAYLIGHT
END:VTIMEZONE
BEGIN:VEVENT
DTSTART;TZID=Australia/Sydney:20240223T140000
DTEND;TZID=Australia/Sydney:20240226T100000
DTSTAMP:20260424T154015
CREATED:20240217T044911Z
LAST-MODIFIED:20240217T044911Z
UID:10000094-1708696800-1708941600@ffh.farm
SUMMARY:Booking - House 2 - #5374
DESCRIPTION:
URL:https://ffh.farm/event/booking-house-2-5374/
CATEGORIES:Accommodation Bookings
END:VEVENT
BEGIN:VEVENT
DTSTART;TZID=Australia/Sydney:20240226T140000
DTEND;TZID=Australia/Sydney:20240228T100000
DTSTAMP:20260424T154015
CREATED:20240116T095837Z
LAST-MODIFIED:20240116T095837Z
UID:10000058-1708956000-1709114400@ffh.farm
SUMMARY:Booking - Parents Retreat - #5188
DESCRIPTION:
URL:https://ffh.farm/event/booking-parents-retreat-5188/
CATEGORIES:Accommodation Bookings
END:VEVENT
BEGIN:VEVENT
DTSTART;TZID=Australia/Sydney:20240301T140000
DTEND;TZID=Australia/Sydney:20240303T100000
DTSTAMP:20260424T154015
CREATED:20240215T054722Z
LAST-MODIFIED:20240215T054722Z
UID:10000073-1709301600-1709460000@ffh.farm
SUMMARY:Booking - Parents Retreat - #5295
DESCRIPTION:
URL:https://ffh.farm/event/booking-parents-retreat-5295/
CATEGORIES:Accommodation Bookings
END:VEVENT
BEGIN:VEVENT
DTSTART;TZID=Australia/Sydney:20240308T140000
DTEND;TZID=Australia/Sydney:20240310T100000
DTSTAMP:20260424T154015
CREATED:20240215T055129Z
LAST-MODIFIED:20240215T055129Z
UID:10000074-1709906400-1710064800@ffh.farm
SUMMARY:Booking - Parents Retreat - #5298
DESCRIPTION:
URL:https://ffh.farm/event/booking-parents-retreat-5298/
CATEGORIES:Accommodation Bookings
END:VEVENT
BEGIN:VEVENT
DTSTART;TZID=Australia/Sydney:20240322T140000
DTEND;TZID=Australia/Sydney:20240324T100000
DTSTAMP:20260424T154015
CREATED:20240224T015118Z
LAST-MODIFIED:20240224T015118Z
UID:10000145-1711116000-1711274400@ffh.farm
SUMMARY:Booking - Parents Retreat - #5472
DESCRIPTION:
URL:https://ffh.farm/event/booking-parents-retreat-5472/
CATEGORIES:Accommodation Bookings
END:VEVENT
BEGIN:VEVENT
DTSTART;TZID=Australia/Sydney:20240322T140000
DTEND;TZID=Australia/Sydney:20240325T100000
DTSTAMP:20260424T154016
CREATED:20240314T073612Z
LAST-MODIFIED:20240314T073612Z
UID:10000095-1711116000-1711360800@ffh.farm
SUMMARY:Booking - House 2 - #5376
DESCRIPTION:
URL:https://ffh.farm/event/booking-house-2-5376/
CATEGORIES:Accommodation Bookings
END:VEVENT
BEGIN:VEVENT
DTSTART;TZID=Australia/Sydney:20240329T140000
DTEND;TZID=Australia/Sydney:20240401T100000
DTSTAMP:20260424T154016
CREATED:20240217T025059Z
LAST-MODIFIED:20240217T025059Z
UID:10000090-1711720800-1711965600@ffh.farm
SUMMARY:Booking - Parents Retreat - #5364
DESCRIPTION:
URL:https://ffh.farm/event/booking-parents-retreat-5364/
CATEGORIES:Accommodation Bookings
END:VEVENT
BEGIN:VEVENT
DTSTART;TZID=Australia/Sydney:20240329T140000
DTEND;TZID=Australia/Sydney:20240401T100000
DTSTAMP:20260424T154016
CREATED:20240217T034236Z
LAST-MODIFIED:20240217T034236Z
UID:10000061-1711720800-1711965600@ffh.farm
SUMMARY:Booking - House 2 - #5247
DESCRIPTION:
URL:https://ffh.farm/event/booking-house-2-5247/
CATEGORIES:Accommodation Bookings
END:VEVENT
BEGIN:VEVENT
DTSTART;TZID=Australia/Sydney:20240419T140000
DTEND;TZID=Australia/Sydney:20240421T100000
DTSTAMP:20260424T154016
CREATED:20240221T081657Z
LAST-MODIFIED:20240221T081657Z
UID:10000141-1713535200-1713693600@ffh.farm
SUMMARY:Booking - House 2 - #5428
DESCRIPTION:
URL:https://ffh.farm/event/booking-house-2-5428/
CATEGORIES:Accommodation Bookings
END:VEVENT
BEGIN:VEVENT
DTSTART;TZID=Australia/Sydney:20240422T140000
DTEND;TZID=Australia/Sydney:20240424T100000
DTSTAMP:20260424T154016
CREATED:20240317T071530Z
LAST-MODIFIED:20240317T071530Z
UID:10000170-1713794400-1713952800@ffh.farm
SUMMARY:Booking - Parents Retreat - #5708
DESCRIPTION:
URL:https://ffh.farm/event/booking-parents-retreat-5708/
CATEGORIES:Accommodation Bookings
END:VEVENT
BEGIN:VEVENT
DTSTART;TZID=Australia/Sydney:20240426T140000
DTEND;TZID=Australia/Sydney:20240428T100000
DTSTAMP:20260424T154016
CREATED:20240417T024948Z
LAST-MODIFIED:20240417T024948Z
UID:10000174-1714140000-1714298400@ffh.farm
SUMMARY:Booking - House 2 - #5788
DESCRIPTION:
URL:https://ffh.farm/event/booking-house-2-5788/
CATEGORIES:Accommodation Bookings
END:VEVENT
BEGIN:VEVENT
DTSTART;TZID=Australia/Sydney:20240517T140000
DTEND;TZID=Australia/Sydney:20240519T100000
DTSTAMP:20260424T154016
CREATED:20240509T093036Z
LAST-MODIFIED:20240509T093036Z
UID:10000187-1715954400-1716112800@ffh.farm
SUMMARY:Booking - Parents Retreat - #5880
DESCRIPTION:
URL:https://ffh.farm/event/booking-parents-retreat-5880/
CATEGORIES:Accommodation Bookings
END:VEVENT
BEGIN:VEVENT
DTSTART;TZID=Australia/Sydney:20240614T140000
DTEND;TZID=Australia/Sydney:20240616T100000
DTSTAMP:20260424T154016
CREATED:20240614T042058Z
LAST-MODIFIED:20240614T042058Z
UID:10000196-1718373600-1718532000@ffh.farm
SUMMARY:Booking - House 2 - #5982
DESCRIPTION:
URL:https://ffh.farm/event/booking-parents-retreat-5982/
CATEGORIES:Accommodation Bookings
END:VEVENT
BEGIN:VEVENT
DTSTART;TZID=Australia/Sydney:20240630T140000
DTEND;TZID=Australia/Sydney:20240701T100000
DTSTAMP:20260424T154016
CREATED:20240629T065617Z
LAST-MODIFIED:20240629T065617Z
UID:10000215-1719756000-1719828000@ffh.farm
SUMMARY:Booking - Parents Retreat - #6088
DESCRIPTION:
URL:https://ffh.farm/event/booking-parents-retreat-6088/
CATEGORIES:Accommodation Bookings
END:VEVENT
BEGIN:VEVENT
DTSTART;TZID=Australia/Sydney:20240630T140000
DTEND;TZID=Australia/Sydney:20240702T100000
DTSTAMP:20260424T154016
CREATED:20240629T065552Z
LAST-MODIFIED:20240629T065552Z
UID:10000214-1719756000-1719914400@ffh.farm
SUMMARY:Booking - Parents Retreat - #6086
DESCRIPTION:
URL:https://ffh.farm/event/booking-parents-retreat-6086/
CATEGORIES:Accommodation Bookings
END:VEVENT
BEGIN:VEVENT
DTSTART;TZID=Australia/Sydney:20240719T140000
DTEND;TZID=Australia/Sydney:20240721T100000
DTSTAMP:20260424T154016
CREATED:20240610T063130Z
LAST-MODIFIED:20240610T063130Z
UID:10000198-1721397600-1721556000@ffh.farm
SUMMARY:Booking - House 2 - #5987
DESCRIPTION:
URL:https://ffh.farm/event/booking-house-2-5987/
CATEGORIES:Accommodation Bookings
END:VEVENT
BEGIN:VEVENT
DTSTART;TZID=Australia/Sydney:20240816T140000
DTEND;TZID=Australia/Sydney:20240818T100000
DTSTAMP:20260424T154016
CREATED:20240619T123227Z
LAST-MODIFIED:20240619T123227Z
UID:10000203-1723816800-1723975200@ffh.farm
SUMMARY:Booking - Parents Retreat - #6031
DESCRIPTION:
URL:https://ffh.farm/event/booking-parents-retreat-6031/
CATEGORIES:Accommodation Bookings
END:VEVENT
BEGIN:VEVENT
DTSTART;TZID=Australia/Sydney:20240822T140000
DTEND;TZID=Australia/Sydney:20240825T100000
DTSTAMP:20260424T154016
CREATED:20240731T035309Z
LAST-MODIFIED:20240731T035309Z
UID:10000227-1724335200-1724580000@ffh.farm
SUMMARY:Booking - Parents Retreat - #6099
DESCRIPTION:
URL:https://ffh.farm/event/booking-parents-retreat-6099/
CATEGORIES:Accommodation Bookings
END:VEVENT
BEGIN:VEVENT
DTSTART;TZID=Australia/Sydney:20240906T140000
DTEND;TZID=Australia/Sydney:20240908T100000
DTSTAMP:20260424T154016
CREATED:20240619T123308Z
LAST-MODIFIED:20240619T123308Z
UID:10000204-1725631200-1725789600@ffh.farm
SUMMARY:Booking - House 2 - #6034
DESCRIPTION:
URL:https://ffh.farm/event/booking-house-2-6034/
CATEGORIES:Accommodation Bookings
END:VEVENT
BEGIN:VEVENT
DTSTART;TZID=Australia/Sydney:20240906T140000
DTEND;TZID=Australia/Sydney:20240908T100000
DTSTAMP:20260424T154016
CREATED:20240619T123347Z
LAST-MODIFIED:20240619T123347Z
UID:10000205-1725631200-1725789600@ffh.farm
SUMMARY:Booking - Parents Retreat - #6037
DESCRIPTION:
URL:https://ffh.farm/event/booking-parents-retreat-6037/
CATEGORIES:Accommodation Bookings
END:VEVENT
BEGIN:VEVENT
DTSTART;TZID=Australia/Sydney:20240927T140000
DTEND;TZID=Australia/Sydney:20240929T100000
DTSTAMP:20260424T154016
CREATED:20240619T123455Z
LAST-MODIFIED:20240619T123455Z
UID:10000206-1727445600-1727604000@ffh.farm
SUMMARY:Booking - House 2 - #6040
DESCRIPTION:
URL:https://ffh.farm/event/booking-house-2-6040/
CATEGORIES:Accommodation Bookings
END:VEVENT
BEGIN:VEVENT
DTSTART;TZID=Australia/Sydney:20240927T140000
DTEND;TZID=Australia/Sydney:20240929T100000
DTSTAMP:20260424T154016
CREATED:20240818T070340Z
LAST-MODIFIED:20240818T070340Z
UID:10000207-1727445600-1727604000@ffh.farm
SUMMARY:Booking - Parents Retreat - #6043
DESCRIPTION:
URL:https://ffh.farm/event/booking-parents-retreat-6043/
CATEGORIES:Accommodation Bookings
END:VEVENT
BEGIN:VEVENT
DTSTART;TZID=Australia/Sydney:20241004T140000
DTEND;TZID=Australia/Sydney:20241008T100000
DTSTAMP:20260424T154016
CREATED:20240827T091301Z
LAST-MODIFIED:20240827T091301Z
UID:10000219-1728050400-1728381600@ffh.farm
SUMMARY:Booking - Parents Retreat - #6118
DESCRIPTION:
URL:https://ffh.farm/event/booking-parents-retreat-6118/
CATEGORIES:Accommodation Bookings
END:VEVENT
BEGIN:VEVENT
DTSTART;TZID=Australia/Sydney:20241011T140000
DTEND;TZID=Australia/Sydney:20241014T100000
DTSTAMP:20260424T154016
CREATED:20240716T000804Z
LAST-MODIFIED:20240716T000804Z
UID:10000220-1728655200-1728900000@ffh.farm
SUMMARY:Booking - House 2 - #6121
DESCRIPTION:
URL:https://ffh.farm/event/booking-house-2-6121/
CATEGORIES:Accommodation Bookings
END:VEVENT
BEGIN:VEVENT
DTSTART;TZID=Australia/Sydney:20241011T140000
DTEND;TZID=Australia/Sydney:20241014T100000
DTSTAMP:20260424T154016
CREATED:20240716T000850Z
LAST-MODIFIED:20240716T000850Z
UID:10000221-1728655200-1728900000@ffh.farm
SUMMARY:Booking - Parents Retreat - #6124
DESCRIPTION:
URL:https://ffh.farm/event/booking-parents-retreat-6124/
CATEGORIES:Accommodation Bookings
END:VEVENT
BEGIN:VEVENT
DTSTART;TZID=Australia/Sydney:20241018T140000
DTEND;TZID=Australia/Sydney:20241020T100000
DTSTAMP:20260424T154016
CREATED:20240619T123633Z
LAST-MODIFIED:20240619T123633Z
UID:10000208-1729260000-1729418400@ffh.farm
SUMMARY:Booking - House 2 - #6046
DESCRIPTION:
URL:https://ffh.farm/event/booking-house-2-6046/
CATEGORIES:Accommodation Bookings
END:VEVENT
BEGIN:VEVENT
DTSTART;TZID=Australia/Sydney:20241018T140000
DTEND;TZID=Australia/Sydney:20241020T100000
DTSTAMP:20260424T154016
CREATED:20240619T123703Z
LAST-MODIFIED:20240619T123703Z
UID:10000209-1729260000-1729418400@ffh.farm
SUMMARY:Booking - Parents Retreat - #6049
DESCRIPTION:
URL:https://ffh.farm/event/booking-parents-retreat-6049/
CATEGORIES:Accommodation Bookings
END:VEVENT
BEGIN:VEVENT
DTSTART;TZID=Australia/Sydney:20241115T140000
DTEND;TZID=Australia/Sydney:20241117T100000
DTSTAMP:20260424T154016
CREATED:20240828T104217Z
LAST-MODIFIED:20240828T104217Z
UID:10000211-1731679200-1731837600@ffh.farm
SUMMARY:Booking - Parents Retreat - #6055
DESCRIPTION:
URL:https://ffh.farm/event/booking-parents-retreat-6055/
CATEGORIES:Accommodation Bookings
END:VEVENT
BEGIN:VEVENT
DTSTART;TZID=Australia/Sydney:20241129T140000
DTEND;TZID=Australia/Sydney:20241201T100000
DTSTAMP:20260424T154016
CREATED:20240619T124037Z
LAST-MODIFIED:20240619T124037Z
UID:10000212-1732888800-1733047200@ffh.farm
SUMMARY:Booking - House 2 - #6058
DESCRIPTION:
URL:https://ffh.farm/event/booking-house-2-6058/
CATEGORIES:Accommodation Bookings
END:VEVENT
BEGIN:VEVENT
DTSTART;TZID=Australia/Sydney:20241129T140000
DTEND;TZID=Australia/Sydney:20241201T100000
DTSTAMP:20260424T154016
CREATED:20240619T124118Z
LAST-MODIFIED:20240619T124118Z
UID:10000213-1732888800-1733047200@ffh.farm
SUMMARY:Booking - Parents Retreat - #6061
DESCRIPTION:
URL:https://ffh.farm/event/booking-parents-retreat-6061/
CATEGORIES:Accommodation Bookings
END:VEVENT
END:VCALENDAR