BEGIN:VCALENDAR
VERSION:2.0
PRODID:-//The Farm - ECPv6.2.3.2//NONSGML v1.0//EN
CALSCALE:GREGORIAN
METHOD:PUBLISH
X-ORIGINAL-URL:https://ffh.farm
X-WR-CALDESC:Events for The Farm
REFRESH-INTERVAL;VALUE=DURATION:PT1H
X-Robots-Tag:noindex
X-PUBLISHED-TTL:PT1H
BEGIN:VTIMEZONE
TZID:Australia/Sydney
BEGIN:STANDARD
TZOFFSETFROM:+1100
TZOFFSETTO:+1000
TZNAME:AEST
DTSTART:20250405T160000
END:STANDARD
BEGIN:DAYLIGHT
TZOFFSETFROM:+1000
TZOFFSETTO:+1100
TZNAME:AEDT
DTSTART:20251004T160000
END:DAYLIGHT
BEGIN:STANDARD
TZOFFSETFROM:+1100
TZOFFSETTO:+1000
TZNAME:AEST
DTSTART:20260404T160000
END:STANDARD
BEGIN:DAYLIGHT
TZOFFSETFROM:+1000
TZOFFSETTO:+1100
TZNAME:AEDT
DTSTART:20261003T160000
END:DAYLIGHT
END:VTIMEZONE
BEGIN:VEVENT
DTSTART;TZID=Australia/Sydney:20250627T140000
DTEND;TZID=Australia/Sydney:20250629T100000
DTSTAMP:20260423T192928
CREATED:20250518T121205Z
LAST-MODIFIED:20250518T121205Z
UID:10000384-1751032800-1751191200@ffh.farm
SUMMARY:Booking - Parents Retreat - #7005
DESCRIPTION:
URL:https://ffh.farm/event/booking-parents-retreat-7005/
CATEGORIES:Accommodation Bookings
END:VEVENT
BEGIN:VEVENT
DTSTART;TZID=Australia/Sydney:20250705T140000
DTEND;TZID=Australia/Sydney:20250712T100000
DTSTAMP:20260423T192928
CREATED:20250206T044806Z
LAST-MODIFIED:20250206T044806Z
UID:10000306-1751724000-1752314400@ffh.farm
SUMMARY:Booking - Parents Retreat - #6690
DESCRIPTION:
URL:https://ffh.farm/event/booking-parents-retreat-6690/
CATEGORIES:Accommodation Bookings
END:VEVENT
BEGIN:VEVENT
DTSTART;TZID=Australia/Sydney:20250714T140000
DTEND;TZID=Australia/Sydney:20250718T100000
DTSTAMP:20260423T192928
CREATED:20250608T084330Z
LAST-MODIFIED:20250608T084330Z
UID:10000398-1752501600-1752832800@ffh.farm
SUMMARY:Booking - Parents Retreat - #7102
DESCRIPTION:
URL:https://ffh.farm/event/booking-parents-retreat-7102/
CATEGORIES:Accommodation Bookings
END:VEVENT
BEGIN:VEVENT
DTSTART;TZID=Australia/Sydney:20250912T140000
DTEND;TZID=Australia/Sydney:20250914T100000
DTSTAMP:20260423T192928
CREATED:20250603T233609Z
LAST-MODIFIED:20250603T233609Z
UID:10000371-1757685600-1757844000@ffh.farm
SUMMARY:Booking - Parents Retreat - #6965
DESCRIPTION:
URL:https://ffh.farm/event/booking-parents-retreat-6965/
CATEGORIES:Accommodation Bookings
END:VEVENT
BEGIN:VEVENT
DTSTART;TZID=Australia/Sydney:20250926T140000
DTEND;TZID=Australia/Sydney:20250929T100000
DTSTAMP:20260423T192928
CREATED:20250518T120312Z
LAST-MODIFIED:20250518T120312Z
UID:10000381-1758895200-1759140000@ffh.farm
SUMMARY:Booking - Parents Retreat - #6998
DESCRIPTION:
URL:https://ffh.farm/event/booking-parents-retreat-6998/
CATEGORIES:Accommodation Bookings
END:VEVENT
BEGIN:VEVENT
DTSTART;TZID=Australia/Sydney:20251004T140000
DTEND;TZID=Australia/Sydney:20251006T100000
DTSTAMP:20260423T192928
CREATED:20250607T080020Z
LAST-MODIFIED:20250607T080020Z
UID:10000396-1759586400-1759744800@ffh.farm
SUMMARY:Booking - Parents Retreat - #7095
DESCRIPTION:
URL:https://ffh.farm/event/booking-parents-retreat-7095/
CATEGORIES:Accommodation Bookings
END:VEVENT
BEGIN:VEVENT
DTSTART;TZID=Australia/Sydney:20251010T140000
DTEND;TZID=Australia/Sydney:20251012T100000
DTSTAMP:20260423T192928
CREATED:20250726T024202Z
LAST-MODIFIED:20250726T024202Z
UID:10000418-1760104800-1760263200@ffh.farm
SUMMARY:Booking - Parents Retreat - #7214
DESCRIPTION:
URL:https://ffh.farm/event/booking-parents-retreat-7214/
CATEGORIES:Accommodation Bookings
END:VEVENT
BEGIN:VEVENT
DTSTART;TZID=Australia/Sydney:20251223T140000
DTEND;TZID=Australia/Sydney:20251225T100000
DTSTAMP:20260423T192928
CREATED:20251002T120418Z
LAST-MODIFIED:20251002T120418Z
UID:10000433-1766498400-1766656800@ffh.farm
SUMMARY:Booking - Parents Retreat - #7353
DESCRIPTION:
URL:https://ffh.farm/event/booking-parents-retreat-7353/
CATEGORIES:Accommodation Bookings
END:VEVENT
BEGIN:VEVENT
DTSTART;TZID=Australia/Sydney:20251225T140000
DTEND;TZID=Australia/Sydney:20251227T100000
DTSTAMP:20260423T192928
CREATED:20251006T123309Z
LAST-MODIFIED:20251006T123309Z
UID:10000437-1766671200-1766829600@ffh.farm
SUMMARY:Booking - Parents Retreat - #7368
DESCRIPTION:
URL:https://ffh.farm/event/booking-parents-retreat-7368/
CATEGORIES:Accommodation Bookings
END:VEVENT
BEGIN:VEVENT
DTSTART;TZID=Australia/Sydney:20251227T140000
DTEND;TZID=Australia/Sydney:20260102T100000
DTSTAMP:20260423T192928
CREATED:20251006T123034Z
LAST-MODIFIED:20251006T123034Z
UID:10000435-1766844000-1767348000@ffh.farm
SUMMARY:Booking - Parents Retreat - #7361
DESCRIPTION:
URL:https://ffh.farm/event/booking-parents-retreat-7361/
CATEGORIES:Accommodation Bookings
END:VEVENT
BEGIN:VEVENT
DTSTART;TZID=Australia/Sydney:20260123T140000
DTEND;TZID=Australia/Sydney:20260127T100000
DTSTAMP:20260423T192928
CREATED:20251013T120633Z
LAST-MODIFIED:20251013T120633Z
UID:10000448-1769176800-1769508000@ffh.farm
SUMMARY:Booking - Parents Retreat - #7394
DESCRIPTION:
URL:https://ffh.farm/event/booking-parents-retreat-7394/
CATEGORIES:Accommodation Bookings
END:VEVENT
BEGIN:VEVENT
DTSTART;TZID=Australia/Sydney:20260206T140000
DTEND;TZID=Australia/Sydney:20260208T100000
DTSTAMP:20260423T192928
CREATED:20260130T120949Z
LAST-MODIFIED:20260130T120949Z
UID:10000463-1770386400-1770544800@ffh.farm
SUMMARY:Booking - Parents Retreat - #7522
DESCRIPTION:
URL:https://ffh.farm/event/booking-parents-retreat-7522/
CATEGORIES:Accommodation Bookings
END:VEVENT
BEGIN:VEVENT
DTSTART;TZID=Australia/Sydney:20260312T140000
DTEND;TZID=Australia/Sydney:20260314T100000
DTSTAMP:20260423T192928
CREATED:20260311T110207Z
LAST-MODIFIED:20260311T110207Z
UID:10000477-1773324000-1773482400@ffh.farm
SUMMARY:Booking - Parents Retreat - #7581
DESCRIPTION:
URL:https://ffh.farm/event/booking-parents-retreat-7581/
CATEGORIES:Accommodation Bookings
END:VEVENT
BEGIN:VEVENT
DTSTART;TZID=Australia/Sydney:20260407T140000
DTEND;TZID=Australia/Sydney:20260409T100000
DTSTAMP:20260423T192928
CREATED:20260324T120752Z
LAST-MODIFIED:20260324T120752Z
UID:10000482-1775570400-1775728800@ffh.farm
SUMMARY:Booking - Parents Retreat - #7601
DESCRIPTION:
URL:https://ffh.farm/event/booking-parents-retreat-7601/
CATEGORIES:Accommodation Bookings
END:VEVENT
BEGIN:VEVENT
DTSTART;TZID=Australia/Sydney:20260425T140000
DTEND;TZID=Australia/Sydney:20260427T100000
DTSTAMP:20260423T192928
CREATED:20260419T232722Z
LAST-MODIFIED:20260419T232722Z
UID:10000494-1777125600-1777284000@ffh.farm
SUMMARY:Booking - Parents Retreat - #7646
DESCRIPTION:
URL:https://ffh.farm/event/booking-parents-retreat-7646/
CATEGORIES:Accommodation Bookings
END:VEVENT
BEGIN:VEVENT
DTSTART;TZID=Australia/Sydney:20260528T140000
DTEND;TZID=Australia/Sydney:20260531T100000
DTSTAMP:20260423T192928
CREATED:20260324T121036Z
LAST-MODIFIED:20260324T121036Z
UID:10000484-1779976800-1780221600@ffh.farm
SUMMARY:Booking - Parents Retreat - #7607
DESCRIPTION:
URL:https://ffh.farm/event/booking-parents-retreat-7607/
CATEGORIES:Accommodation Bookings
END:VEVENT
BEGIN:VEVENT
DTSTART;TZID=Australia/Sydney:20260626T140000
DTEND;TZID=Australia/Sydney:20260628T100000
DTSTAMP:20260423T192928
CREATED:20260316T104145Z
LAST-MODIFIED:20260316T104145Z
UID:10000480-1782482400-1782640800@ffh.farm
SUMMARY:Booking - Parents Retreat - #7591
DESCRIPTION:
URL:https://ffh.farm/event/booking-parents-retreat-7591/
CATEGORIES:Accommodation Bookings
END:VEVENT
END:VCALENDAR