BEGIN:VCALENDAR
VERSION:2.0
PRODID:-//The Farm - ECPv6.2.3.2//NONSGML v1.0//EN
CALSCALE:GREGORIAN
METHOD:PUBLISH
X-WR-CALNAME:The Farm
X-ORIGINAL-URL:https://ffh.farm
X-WR-CALDESC:Events for The Farm
REFRESH-INTERVAL;VALUE=DURATION:PT1H
X-Robots-Tag:noindex
X-PUBLISHED-TTL:PT1H
BEGIN:VTIMEZONE
TZID:Australia/Sydney
BEGIN:STANDARD
TZOFFSETFROM:+1100
TZOFFSETTO:+1000
TZNAME:AEST
DTSTART:20240406T160000
END:STANDARD
BEGIN:DAYLIGHT
TZOFFSETFROM:+1000
TZOFFSETTO:+1100
TZNAME:AEDT
DTSTART:20241005T160000
END:DAYLIGHT
END:VTIMEZONE
BEGIN:VEVENT
DTSTART;TZID=Australia/Sydney:20240630T140000
DTEND;TZID=Australia/Sydney:20240701T100000
DTSTAMP:20260424T065825
CREATED:20240629T065617Z
LAST-MODIFIED:20240629T065617Z
UID:10000215-1719756000-1719828000@ffh.farm
SUMMARY:Booking - Parents Retreat - #6088
DESCRIPTION:
URL:https://ffh.farm/event/booking-parents-retreat-6088/
CATEGORIES:Accommodation Bookings
END:VEVENT
BEGIN:VEVENT
DTSTART;TZID=Australia/Sydney:20240630T140000
DTEND;TZID=Australia/Sydney:20240702T100000
DTSTAMP:20260424T065825
CREATED:20240629T065552Z
LAST-MODIFIED:20240629T065552Z
UID:10000214-1719756000-1719914400@ffh.farm
SUMMARY:Booking - Parents Retreat - #6086
DESCRIPTION:
URL:https://ffh.farm/event/booking-parents-retreat-6086/
CATEGORIES:Accommodation Bookings
END:VEVENT
END:VCALENDAR