BEGIN:VCALENDAR
VERSION:2.0
PRODID:-//The Farm - ECPv6.2.3.2//NONSGML v1.0//EN
CALSCALE:GREGORIAN
METHOD:PUBLISH
X-ORIGINAL-URL:https://ffh.farm
X-WR-CALDESC:Events for The Farm
REFRESH-INTERVAL;VALUE=DURATION:PT1H
X-Robots-Tag:noindex
X-PUBLISHED-TTL:PT1H
BEGIN:VTIMEZONE
TZID:Australia/Sydney
BEGIN:STANDARD
TZOFFSETFROM:+1100
TZOFFSETTO:+1000
TZNAME:AEST
DTSTART:20250405T160000
END:STANDARD
BEGIN:DAYLIGHT
TZOFFSETFROM:+1000
TZOFFSETTO:+1100
TZNAME:AEDT
DTSTART:20251004T160000
END:DAYLIGHT
END:VTIMEZONE
BEGIN:VEVENT
DTSTART;TZID=Australia/Sydney:20250411T140000
DTEND;TZID=Australia/Sydney:20250413T100000
DTSTAMP:20260423T125352
CREATED:20250329T115248Z
LAST-MODIFIED:20250329T115248Z
UID:10000353-1744380000-1744538400@ffh.farm
SUMMARY:Booking - Parents Retreat - #6856
DESCRIPTION:
URL:https://ffh.farm/event/booking-parents-retreat-6856/
CATEGORIES:Accommodation Bookings
END:VEVENT
BEGIN:VEVENT
DTSTART;TZID=Australia/Sydney:20250413T140000
DTEND;TZID=Australia/Sydney:20250415T100000
DTSTAMP:20260423T125352
CREATED:20250411T011455Z
LAST-MODIFIED:20250411T011455Z
UID:10000356-1744552800-1744711200@ffh.farm
SUMMARY:Booking - Parents Retreat - #6882
DESCRIPTION:
URL:https://ffh.farm/event/booking-parents-retreat-6882/
CATEGORIES:Accommodation Bookings
END:VEVENT
END:VCALENDAR