BEGIN:VCALENDAR
VERSION:2.0
PRODID:-//The Farm - ECPv6.2.3.2//NONSGML v1.0//EN
CALSCALE:GREGORIAN
METHOD:PUBLISH
X-WR-CALNAME:The Farm
X-ORIGINAL-URL:https://ffh.farm
X-WR-CALDESC:Events for The Farm
REFRESH-INTERVAL;VALUE=DURATION:PT1H
X-Robots-Tag:noindex
X-PUBLISHED-TTL:PT1H
BEGIN:VTIMEZONE
TZID:Australia/Sydney
BEGIN:STANDARD
TZOFFSETFROM:+1100
TZOFFSETTO:+1000
TZNAME:AEST
DTSTART:20250405T160000
END:STANDARD
BEGIN:DAYLIGHT
TZOFFSETFROM:+1000
TZOFFSETTO:+1100
TZNAME:AEDT
DTSTART:20251004T160000
END:DAYLIGHT
END:VTIMEZONE
BEGIN:VEVENT
DTSTART;TZID=Australia/Sydney:20250417T140000
DTEND;TZID=Australia/Sydney:20250421T100000
DTSTAMP:20260423T111752
CREATED:20250226T131826Z
LAST-MODIFIED:20250226T131826Z
UID:10000333-1744898400-1745229600@ffh.farm
SUMMARY:Booking - Parents Retreat - #6750
DESCRIPTION:
URL:https://ffh.farm/event/booking-parents-retreat-6750/
CATEGORIES:Accommodation Bookings
END:VEVENT
BEGIN:VEVENT
DTSTART;TZID=Australia/Sydney:20250424T140000
DTEND;TZID=Australia/Sydney:20250427T100000
DTSTAMP:20260423T111752
CREATED:20250412T032942Z
LAST-MODIFIED:20250412T032942Z
UID:10000361-1745503200-1745748000@ffh.farm
SUMMARY:Booking - Parents Retreat - #6908
DESCRIPTION:
URL:https://ffh.farm/event/booking-parents-retreat-6908/
CATEGORIES:Accommodation Bookings
END:VEVENT
END:VCALENDAR