BEGIN:VCALENDAR
VERSION:2.0
PRODID:-//The Farm - ECPv6.2.3.2//NONSGML v1.0//EN
CALSCALE:GREGORIAN
METHOD:PUBLISH
X-ORIGINAL-URL:https://ffh.farm
X-WR-CALDESC:Events for The Farm
REFRESH-INTERVAL;VALUE=DURATION:PT1H
X-Robots-Tag:noindex
X-PUBLISHED-TTL:PT1H
BEGIN:VTIMEZONE
TZID:Australia/Sydney
BEGIN:STANDARD
TZOFFSETFROM:+1100
TZOFFSETTO:+1000
TZNAME:AEST
DTSTART:20240406T160000
END:STANDARD
BEGIN:DAYLIGHT
TZOFFSETFROM:+1000
TZOFFSETTO:+1100
TZNAME:AEDT
DTSTART:20241005T160000
END:DAYLIGHT
END:VTIMEZONE
BEGIN:VEVENT
DTSTART;TZID=Australia/Sydney:20240318T200000
DTEND;TZID=Australia/Sydney:20240318T213000
DTSTAMP:20260422T034208
CREATED:20240319T132324Z
LAST-MODIFIED:20240319T132343Z
UID:10000171-1710792000-1710797400@ffh.farm
SUMMARY:Board Meeting
DESCRIPTION:Planning the Strategy Weekend
URL:https://ffh.farm/event/board-meeting-7/
CATEGORIES:Board - Members Only
END:VEVENT
BEGIN:VEVENT
DTSTART;TZID=Australia/Sydney:20240320T193000
DTEND;TZID=Australia/Sydney:20240320T223000
DTSTAMP:20260422T034208
CREATED:20240308T081050Z
LAST-MODIFIED:20240308T081050Z
UID:10000157-1710963000-1710973800@ffh.farm
SUMMARY:Board Meeting
DESCRIPTION:Weekly Board Meeting
URL:https://ffh.farm/event/board-meeting-6/2024-03-20/
LOCATION:Online
CATEGORIES:Board - Members Only
END:VEVENT
BEGIN:VEVENT
DTSTART;TZID=Australia/Sydney:20240327T193000
DTEND;TZID=Australia/Sydney:20240327T213000
DTSTAMP:20260422T034208
CREATED:20240308T081050Z
LAST-MODIFIED:20240308T081050Z
UID:10000158-1711567800-1711575000@ffh.farm
SUMMARY:Board Meeting
DESCRIPTION:Weekly Board Meeting
URL:https://ffh.farm/event/board-meeting-6/2024-03-27/
LOCATION:Online
CATEGORIES:Board - Members Only
END:VEVENT
BEGIN:VEVENT
DTSTART;TZID=Australia/Sydney:20240403T193000
DTEND;TZID=Australia/Sydney:20240403T220000
DTSTAMP:20260422T034208
CREATED:20240424T013957Z
LAST-MODIFIED:20240424T013957Z
UID:10000176-1712172600-1712181600@ffh.farm
SUMMARY:Board Meeting
DESCRIPTION:Weekly Board meeting
URL:https://ffh.farm/event/board-meeting-8/2024-04-03/
LOCATION:Online
CATEGORIES:Board - Members Only
END:VEVENT
BEGIN:VEVENT
DTSTART;TZID=Australia/Sydney:20240410T193000
DTEND;TZID=Australia/Sydney:20240410T220000
DTSTAMP:20260422T034208
CREATED:20240424T013957Z
LAST-MODIFIED:20240424T013957Z
UID:10000177-1712777400-1712786400@ffh.farm
SUMMARY:Board Meeting
DESCRIPTION:Weekly Board meeting
URL:https://ffh.farm/event/board-meeting-8/2024-04-10/
LOCATION:Online
CATEGORIES:Board - Members Only
END:VEVENT
BEGIN:VEVENT
DTSTART;TZID=Australia/Sydney:20240411T193000
DTEND;TZID=Australia/Sydney:20240411T210000
DTSTAMP:20260422T034208
CREATED:20240424T075345Z
LAST-MODIFIED:20240424T075511Z
UID:10000186-1712863800-1712869200@ffh.farm
SUMMARY:Board Meeting with Bricklet
DESCRIPTION:Bricklet meeting
URL:https://ffh.farm/event/board-meeting-with-bricklet-5/
LOCATION:Online
CATEGORIES:Board - Members Only
END:VEVENT
BEGIN:VEVENT
DTSTART;TZID=Australia/Sydney:20240417T193000
DTEND;TZID=Australia/Sydney:20240417T220000
DTSTAMP:20260422T034208
CREATED:20240424T013957Z
LAST-MODIFIED:20240424T013957Z
UID:10000178-1713382200-1713391200@ffh.farm
SUMMARY:Board Meeting
DESCRIPTION:Weekly Board meeting
URL:https://ffh.farm/event/board-meeting-8/2024-04-17/
LOCATION:Online
CATEGORIES:Board - Members Only
END:VEVENT
BEGIN:VEVENT
DTSTART;TZID=Australia/Sydney:20240424T193000
DTEND;TZID=Australia/Sydney:20240424T220000
DTSTAMP:20260422T034208
CREATED:20240424T013957Z
LAST-MODIFIED:20240424T013957Z
UID:10000179-1713987000-1713996000@ffh.farm
SUMMARY:Board Meeting
DESCRIPTION:Weekly Board meeting
URL:https://ffh.farm/event/board-meeting-8/2024-04-24/
LOCATION:Online
CATEGORIES:Board - Members Only
END:VEVENT
BEGIN:VEVENT
DTSTART;TZID=Australia/Sydney:20240501T193000
DTEND;TZID=Australia/Sydney:20240501T220000
DTSTAMP:20260422T034208
CREATED:20240424T014158Z
LAST-MODIFIED:20240424T014158Z
UID:10000180-1714591800-1714600800@ffh.farm
SUMMARY:Board Meeting
DESCRIPTION:Weekly Board meeting
URL:https://ffh.farm/event/board-meeting-9/2024-05-01/
LOCATION:Online
CATEGORIES:Board - Members Only
END:VEVENT
BEGIN:VEVENT
DTSTART;TZID=Australia/Sydney:20240508T193000
DTEND;TZID=Australia/Sydney:20240508T220000
DTSTAMP:20260422T034208
CREATED:20240424T014158Z
LAST-MODIFIED:20240424T014158Z
UID:10000181-1715196600-1715205600@ffh.farm
SUMMARY:Board Meeting
DESCRIPTION:Weekly Board meeting
URL:https://ffh.farm/event/board-meeting-9/2024-05-08/
LOCATION:Online
CATEGORIES:Board - Members Only
END:VEVENT
BEGIN:VEVENT
DTSTART;TZID=Australia/Sydney:20240515T193000
DTEND;TZID=Australia/Sydney:20240515T220000
DTSTAMP:20260422T034208
CREATED:20240424T014158Z
LAST-MODIFIED:20240424T014158Z
UID:10000182-1715801400-1715810400@ffh.farm
SUMMARY:Board Meeting
DESCRIPTION:Weekly Board meeting
URL:https://ffh.farm/event/board-meeting-9/2024-05-15/
LOCATION:Online
CATEGORIES:Board - Members Only
END:VEVENT
BEGIN:VEVENT
DTSTART;TZID=Australia/Sydney:20240522T193000
DTEND;TZID=Australia/Sydney:20240522T220000
DTSTAMP:20260422T034208
CREATED:20240424T014158Z
LAST-MODIFIED:20240424T014158Z
UID:10000183-1716406200-1716415200@ffh.farm
SUMMARY:Board Meeting
DESCRIPTION:Weekly Board meeting
URL:https://ffh.farm/event/board-meeting-9/2024-05-22/
LOCATION:Online
CATEGORIES:Board - Members Only
END:VEVENT
BEGIN:VEVENT
DTSTART;TZID=Australia/Sydney:20240529T193000
DTEND;TZID=Australia/Sydney:20240529T220000
DTSTAMP:20260422T034208
CREATED:20240424T014158Z
LAST-MODIFIED:20240424T014158Z
UID:10000184-1717011000-1717020000@ffh.farm
SUMMARY:Board Meeting
DESCRIPTION:Weekly Board meeting
URL:https://ffh.farm/event/board-meeting-9/2024-05-29/
LOCATION:Online
CATEGORIES:Board - Members Only
END:VEVENT
BEGIN:VEVENT
DTSTART;TZID=Australia/Sydney:20240604T200000
DTEND;TZID=Australia/Sydney:20240604T220000
DTSTAMP:20260422T034208
CREATED:20240603T124407Z
LAST-MODIFIED:20240603T124407Z
UID:10000191-1717531200-1717538400@ffh.farm
SUMMARY:Board Meeting
DESCRIPTION:Weekly Board meeting
URL:https://ffh.farm/event/board-meeting-10/
LOCATION:Online
CATEGORIES:Board - Members Only
END:VEVENT
BEGIN:VEVENT
DTSTART;TZID=Australia/Sydney:20240612T193000
DTEND;TZID=Australia/Sydney:20240612T220000
DTSTAMP:20260422T034208
CREATED:20240603T124546Z
LAST-MODIFIED:20240603T124546Z
UID:10000192-1718220600-1718229600@ffh.farm
SUMMARY:Board Meeting
DESCRIPTION:Weekly Board meeting
URL:https://ffh.farm/event/board-meeting-11/2024-06-12/
LOCATION:Online
CATEGORIES:Board - Members Only
END:VEVENT
BEGIN:VEVENT
DTSTART;TZID=Australia/Sydney:20240619T193000
DTEND;TZID=Australia/Sydney:20240619T220000
DTSTAMP:20260422T034208
CREATED:20240603T124546Z
LAST-MODIFIED:20240603T124546Z
UID:10000193-1718825400-1718834400@ffh.farm
SUMMARY:Board Meeting
DESCRIPTION:Weekly Board meeting
URL:https://ffh.farm/event/board-meeting-11/2024-06-19/
LOCATION:Online
CATEGORIES:Board - Members Only
END:VEVENT
BEGIN:VEVENT
DTSTART;TZID=Australia/Sydney:20240626T193000
DTEND;TZID=Australia/Sydney:20240626T220000
DTSTAMP:20260422T034208
CREATED:20240603T124546Z
LAST-MODIFIED:20240603T124546Z
UID:10000194-1719430200-1719439200@ffh.farm
SUMMARY:Board Meeting
DESCRIPTION:Weekly Board meeting
URL:https://ffh.farm/event/board-meeting-11/2024-06-26/
LOCATION:Online
CATEGORIES:Board - Members Only
END:VEVENT
BEGIN:VEVENT
DTSTART;TZID=Australia/Sydney:20240710T193000
DTEND;TZID=Australia/Sydney:20240710T223000
DTSTAMP:20260422T034208
CREATED:20240907T043641Z
LAST-MODIFIED:20240907T043641Z
UID:10000246-1720639800-1720650600@ffh.farm
SUMMARY:Board Meeting
DESCRIPTION:Weekly Board Meeting
URL:https://ffh.farm/event/board-meeting-12/2024-07-10/
LOCATION:Online
CATEGORIES:Board - Members Only
END:VEVENT
BEGIN:VEVENT
DTSTART;TZID=Australia/Sydney:20240717T193000
DTEND;TZID=Australia/Sydney:20240717T223000
DTSTAMP:20260422T034208
CREATED:20240907T043641Z
LAST-MODIFIED:20240907T043641Z
UID:10000247-1721244600-1721255400@ffh.farm
SUMMARY:Board Meeting
DESCRIPTION:Weekly Board Meeting
URL:https://ffh.farm/event/board-meeting-12/2024-07-17/
LOCATION:Online
CATEGORIES:Board - Members Only
END:VEVENT
BEGIN:VEVENT
DTSTART;TZID=Australia/Sydney:20240724T193000
DTEND;TZID=Australia/Sydney:20240724T223000
DTSTAMP:20260422T034208
CREATED:20240907T043641Z
LAST-MODIFIED:20240907T043641Z
UID:10000248-1721849400-1721860200@ffh.farm
SUMMARY:Board Meeting
DESCRIPTION:Weekly Board Meeting
URL:https://ffh.farm/event/board-meeting-12/2024-07-24/
LOCATION:Online
CATEGORIES:Board - Members Only
END:VEVENT
BEGIN:VEVENT
DTSTART;TZID=Australia/Sydney:20240729T190000
DTEND;TZID=Australia/Sydney:20240729T210000
DTSTAMP:20260422T034208
CREATED:20240907T043945Z
LAST-MODIFIED:20240907T043945Z
UID:10000250-1722279600-1722286800@ffh.farm
SUMMARY:Church Meeting
DESCRIPTION:Board and Church WG Members
URL:https://ffh.farm/event/church-meeting/
LOCATION:Online
CATEGORIES:Board - Members Only
END:VEVENT
BEGIN:VEVENT
DTSTART;TZID=Australia/Sydney:20240731T193000
DTEND;TZID=Australia/Sydney:20240731T223000
DTSTAMP:20260422T034208
CREATED:20240907T043641Z
LAST-MODIFIED:20240907T043641Z
UID:10000249-1722454200-1722465000@ffh.farm
SUMMARY:Board Meeting
DESCRIPTION:Weekly Board Meeting
URL:https://ffh.farm/event/board-meeting-12/2024-07-31/
LOCATION:Online
CATEGORIES:Board - Members Only
END:VEVENT
BEGIN:VEVENT
DTSTART;TZID=Australia/Sydney:20240802T193000
DTEND;TZID=Australia/Sydney:20240802T220000
DTSTAMP:20260422T034209
CREATED:20240907T044504Z
LAST-MODIFIED:20240907T044504Z
UID:10000251-1722627000-1722636000@ffh.farm
SUMMARY:Board Meeting
DESCRIPTION:Weekly Board Meeting – Special meetings including 2nd Aug – Meeting with Dejoure on structure and 30th Aug – Meeting on access road results and planning townhall.
URL:https://ffh.farm/event/board-meeting-13/2024-08-02/
LOCATION:Online
CATEGORIES:Board - Members Only
END:VEVENT
BEGIN:VEVENT
DTSTART;TZID=Australia/Sydney:20240807T193000
DTEND;TZID=Australia/Sydney:20240807T223000
DTSTAMP:20260422T034209
CREATED:20240907T044504Z
LAST-MODIFIED:20240907T044504Z
UID:10000252-1723059000-1723069800@ffh.farm
SUMMARY:Board Meeting
DESCRIPTION:Weekly Board Meeting – Special meetings including 2nd Aug – Meeting with Dejoure on structure and 30th Aug – Meeting on access road results and planning townhall.
URL:https://ffh.farm/event/board-meeting-13/2024-08-07/
LOCATION:Online
CATEGORIES:Board - Members Only
END:VEVENT
BEGIN:VEVENT
DTSTART;TZID=Australia/Sydney:20240814T193000
DTEND;TZID=Australia/Sydney:20240814T223000
DTSTAMP:20260422T034209
CREATED:20240907T044504Z
LAST-MODIFIED:20240907T044504Z
UID:10000253-1723663800-1723674600@ffh.farm
SUMMARY:Board Meeting
DESCRIPTION:Weekly Board Meeting – Special meetings including 2nd Aug – Meeting with Dejoure on structure and 30th Aug – Meeting on access road results and planning townhall.
URL:https://ffh.farm/event/board-meeting-13/2024-08-14/
LOCATION:Online
CATEGORIES:Board - Members Only
END:VEVENT
BEGIN:VEVENT
DTSTART;TZID=Australia/Sydney:20240821T080000
DTEND;TZID=Australia/Sydney:20240821T170000
DTSTAMP:20260422T034209
CREATED:20240907T044504Z
LAST-MODIFIED:20240907T044504Z
UID:10000254-1724227200-1724259600@ffh.farm
SUMMARY:Board Meeting
DESCRIPTION:Weekly Board Meeting – Special meetings including 2nd Aug – Meeting with Dejoure on structure and 30th Aug – Meeting on access road results and planning townhall.
URL:https://ffh.farm/event/board-meeting-13/2024-08-21/
LOCATION:Online
CATEGORIES:Board - Members Only
END:VEVENT
BEGIN:VEVENT
DTSTART;TZID=Australia/Sydney:20240828T193000
DTEND;TZID=Australia/Sydney:20240828T223000
DTSTAMP:20260422T034209
CREATED:20240907T044504Z
LAST-MODIFIED:20240907T044504Z
UID:10000255-1724873400-1724884200@ffh.farm
SUMMARY:Board Meeting
DESCRIPTION:Weekly Board Meeting – Special meetings including 2nd Aug – Meeting with Dejoure on structure and 30th Aug – Meeting on access road results and planning townhall.
URL:https://ffh.farm/event/board-meeting-13/2024-08-28/
LOCATION:Online
CATEGORIES:Board - Members Only
END:VEVENT
BEGIN:VEVENT
DTSTART;TZID=Australia/Sydney:20240830T193000
DTEND;TZID=Australia/Sydney:20240830T203000
DTSTAMP:20260422T034209
CREATED:20240907T044504Z
LAST-MODIFIED:20240907T044504Z
UID:10000256-1725046200-1725049800@ffh.farm
SUMMARY:Board Meeting
DESCRIPTION:Weekly Board Meeting – Special meetings including 2nd Aug – Meeting with Dejoure on structure and 30th Aug – Meeting on access road results and planning townhall.
URL:https://ffh.farm/event/board-meeting-13/2024-08-30/
LOCATION:Online
CATEGORIES:Board - Members Only
END:VEVENT
BEGIN:VEVENT
DTSTART;TZID=Australia/Sydney:20240904T193000
DTEND;TZID=Australia/Sydney:20240904T223000
DTSTAMP:20260422T034209
CREATED:20240907T045332Z
LAST-MODIFIED:20240907T045332Z
UID:10000258-1725478200-1725489000@ffh.farm
SUMMARY:Board Meeting
DESCRIPTION:Weekly Board Meeting
URL:https://ffh.farm/event/board-meeting-14/2024-09-04/
LOCATION:Online
CATEGORIES:Board - Members Only
END:VEVENT
BEGIN:VEVENT
DTSTART;TZID=Australia/Sydney:20240911T193000
DTEND;TZID=Australia/Sydney:20240911T223000
DTSTAMP:20260422T034209
CREATED:20240907T045332Z
LAST-MODIFIED:20240907T045332Z
UID:10000259-1726083000-1726093800@ffh.farm
SUMMARY:Board Meeting
DESCRIPTION:Weekly Board Meeting
URL:https://ffh.farm/event/board-meeting-14/2024-09-11/
LOCATION:Online
CATEGORIES:Board - Members Only
END:VEVENT
END:VCALENDAR