BEGIN:VCALENDAR
VERSION:2.0
PRODID:-//The Farm - ECPv6.2.3.2//NONSGML v1.0//EN
CALSCALE:GREGORIAN
METHOD:PUBLISH
X-WR-CALNAME:The Farm
X-ORIGINAL-URL:https://ffh.farm
X-WR-CALDESC:Events for The Farm
REFRESH-INTERVAL;VALUE=DURATION:PT1H
X-Robots-Tag:noindex
X-PUBLISHED-TTL:PT1H
BEGIN:VTIMEZONE
TZID:Australia/Sydney
BEGIN:STANDARD
TZOFFSETFROM:+1100
TZOFFSETTO:+1000
TZNAME:AEST
DTSTART:20250405T160000
END:STANDARD
BEGIN:DAYLIGHT
TZOFFSETFROM:+1000
TZOFFSETTO:+1100
TZNAME:AEDT
DTSTART:20251004T160000
END:DAYLIGHT
END:VTIMEZONE
BEGIN:VEVENT
DTSTART;TZID=Australia/Sydney:20250108T193000
DTEND;TZID=Australia/Sydney:20250108T220000
DTSTAMP:20260421T054315
CREATED:20250206T051958Z
LAST-MODIFIED:20250206T051958Z
UID:10000309-1736364600-1736373600@ffh.farm
SUMMARY:Board Meeting
DESCRIPTION:Weekly Board Meeting
URL:https://ffh.farm/event/board-meeting-19/2025-01-08/
LOCATION:Online
CATEGORIES:Board - Members Only
END:VEVENT
END:VCALENDAR