BEGIN:VCALENDAR
VERSION:2.0
PRODID:-//The Farm - ECPv6.2.3.2//NONSGML v1.0//EN
CALSCALE:GREGORIAN
METHOD:PUBLISH
X-ORIGINAL-URL:https://ffh.farm
X-WR-CALDESC:Events for The Farm
REFRESH-INTERVAL;VALUE=DURATION:PT1H
X-Robots-Tag:noindex
X-PUBLISHED-TTL:PT1H
BEGIN:VTIMEZONE
TZID:Australia/Sydney
BEGIN:STANDARD
TZOFFSETFROM:+1100
TZOFFSETTO:+1000
TZNAME:AEST
DTSTART:20230401T160000
END:STANDARD
BEGIN:DAYLIGHT
TZOFFSETFROM:+1000
TZOFFSETTO:+1100
TZNAME:AEDT
DTSTART:20230930T160000
END:DAYLIGHT
END:VTIMEZONE
BEGIN:VEVENT
DTSTART;TZID=Australia/Sydney:20230805T110000
DTEND;TZID=Australia/Sydney:20230805T150000
DTSTAMP:20260421T174011
CREATED:20231116T131523Z
LAST-MODIFIED:20231116T131523Z
UID:10000008-1691233200-1691247600@ffh.farm
SUMMARY:Visions & Missions Workshop
DESCRIPTION:You are invited! We are planning a face-to-face meeting at the farm on Saturday\, 5 August 2023 to finalise the Hunter farm’s values and mission statement. \nA draft of these documents will be prepared by the Board prior to the meeting based on feedback and comments received via our survey. All co-owners are welcome to attend and contribute to the discussion in person.
URL:https://ffh.farm/event/visions-missions-workshop/
LOCATION:FFH – Salea\, 2441 Salisbury Rd\, Salisbury\, NSW\, 2420\, Australia
CATEGORIES:Board - FFH Calendar
END:VEVENT
END:VCALENDAR