BEGIN:VCALENDAR
VERSION:2.0
PRODID:-//The Farm - ECPv6.2.3.2//NONSGML v1.0//EN
CALSCALE:GREGORIAN
METHOD:PUBLISH
X-ORIGINAL-URL:https://ffh.farm
X-WR-CALDESC:Events for The Farm
REFRESH-INTERVAL;VALUE=DURATION:PT1H
X-Robots-Tag:noindex
X-PUBLISHED-TTL:PT1H
BEGIN:VTIMEZONE
TZID:Australia/Sydney
BEGIN:STANDARD
TZOFFSETFROM:+1100
TZOFFSETTO:+1000
TZNAME:AEST
DTSTART:20230401T160000
END:STANDARD
BEGIN:DAYLIGHT
TZOFFSETFROM:+1000
TZOFFSETTO:+1100
TZNAME:AEDT
DTSTART:20230930T160000
END:DAYLIGHT
END:VTIMEZONE
BEGIN:VEVENT
DTSTART;TZID=Australia/Sydney:20231014T140000
DTEND;TZID=Australia/Sydney:20231014T210000
DTSTAMP:20260421T150147
CREATED:20231116T132836Z
LAST-MODIFIED:20231116T132836Z
UID:10000009-1697292000-1697317200@ffh.farm
SUMMARY:Strategy Weekend (RCS Report)
DESCRIPTION:We are proposing a community event at the farm on 14-15 October in which the Board and Committee will present the initial findings of our Strategic farm management plan as well as goals and objectives\, with the aim of collectively setting the direction for the Hunter family farm. \n2pm – Arrive and campers set up \n6pm – Dinner around the fire pit.
URL:https://ffh.farm/event/strategy-weekend-rcs-report/
LOCATION:FFH – Salea\, 2441 Salisbury Rd\, Salisbury\, NSW\, 2420\, Australia
CATEGORIES:Board - FFH Calendar
END:VEVENT
END:VCALENDAR