BEGIN:VCALENDAR
VERSION:2.0
PRODID:-//The Farm - ECPv6.2.3.2//NONSGML v1.0//EN
CALSCALE:GREGORIAN
METHOD:PUBLISH
X-WR-CALNAME:The Farm
X-ORIGINAL-URL:https://ffh.farm
X-WR-CALDESC:Events for The Farm
REFRESH-INTERVAL;VALUE=DURATION:PT1H
X-Robots-Tag:noindex
X-PUBLISHED-TTL:PT1H
BEGIN:VTIMEZONE
TZID:Australia/Sydney
BEGIN:STANDARD
TZOFFSETFROM:+1100
TZOFFSETTO:+1000
TZNAME:AEST
DTSTART:20230401T160000
END:STANDARD
BEGIN:DAYLIGHT
TZOFFSETFROM:+1000
TZOFFSETTO:+1100
TZNAME:AEDT
DTSTART:20230930T160000
END:DAYLIGHT
END:VTIMEZONE
BEGIN:VEVENT
DTSTART;TZID=Australia/Sydney:20231019T193000
DTEND;TZID=Australia/Sydney:20231019T203000
DTSTAMP:20260421T150017
CREATED:20231116T135049Z
LAST-MODIFIED:20231116T135049Z
UID:10000012-1697743800-1697747400@ffh.farm
SUMMARY:Board Town Hall Meeting
DESCRIPTION:Online Townhall Meeting with questions to be emailed prior by 17th October.
URL:https://ffh.farm/event/board-town-hall-meeting/
LOCATION:Online
CATEGORIES:Board - FFH Calendar
END:VEVENT
END:VCALENDAR