BEGIN:VCALENDAR
VERSION:2.0
PRODID:-//The Farm - ECPv6.2.3.2//NONSGML v1.0//EN
CALSCALE:GREGORIAN
METHOD:PUBLISH
X-ORIGINAL-URL:https://ffh.farm
X-WR-CALDESC:Events for The Farm
REFRESH-INTERVAL;VALUE=DURATION:PT1H
X-Robots-Tag:noindex
X-PUBLISHED-TTL:PT1H
BEGIN:VTIMEZONE
TZID:Australia/Sydney
BEGIN:STANDARD
TZOFFSETFROM:+1100
TZOFFSETTO:+1000
TZNAME:AEST
DTSTART:20240406T160000
END:STANDARD
BEGIN:DAYLIGHT
TZOFFSETFROM:+1000
TZOFFSETTO:+1100
TZNAME:AEDT
DTSTART:20241005T160000
END:DAYLIGHT
END:VTIMEZONE
BEGIN:VEVENT
DTSTART;TZID=Australia/Sydney:20240323T000000
DTEND;TZID=Australia/Sydney:20240324T235959
DTSTAMP:20260421T064647
CREATED:20240312T102830Z
LAST-MODIFIED:20240312T102830Z
UID:10000161-1711152000-1711324799@ffh.farm
SUMMARY:Goals and Objectives Workshop
DESCRIPTION:For those co-owners who would like to contribute to the next step\, we ask you to think about the following three questions: \n\nWhat kind of guidelines would you like to see in our community to ensure smooth operation and cooperation among all co-owners? These could be in relation to fair access to the farm and produce or interpersonal interactions among co-owners.\n\n\nGiven the vital role of effective communication for achieving our community goals\, how might we enhance our existing communication strategy? What sorts of communication protocols could we implement to ensure all community members comprehend these goals and foster harmony and stability without compromising our community’s vision?\n\n\nWhat opportunities are there to generate income from the farm? What types of facilities\, services and produce might help us meet our financial goals?\n\nIf you are unable to join us at the farm\, but would like to be part of the next stage’s conversation\, please send us your thoughts on the above three questions by 5:00pm on Sunday\, 17 March 2024. \nAll co-owners are invited to attend the on-farm workshop over 23-24 March\, however we ask those attending to commit to both days. More details including an agenda will be provided next week.
URL:https://ffh.farm/event/goals-and-objectives-workshop-2/
LOCATION:FFH – Hardview\, 2246 Salisbury Road\, Salisbury\, NSW\, 2420\, Australia
CATEGORIES:Board - FFH Calendar
END:VEVENT
END:VCALENDAR