BEGIN:VCALENDAR
VERSION:2.0
PRODID:-//The Farm - ECPv6.2.3.2//NONSGML v1.0//EN
CALSCALE:GREGORIAN
METHOD:PUBLISH
X-ORIGINAL-URL:https://ffh.farm
X-WR-CALDESC:Events for The Farm
REFRESH-INTERVAL;VALUE=DURATION:PT1H
X-Robots-Tag:noindex
X-PUBLISHED-TTL:PT1H
BEGIN:VTIMEZONE
TZID:Australia/Sydney
BEGIN:STANDARD
TZOFFSETFROM:+1100
TZOFFSETTO:+1000
TZNAME:AEST
DTSTART:20240406T160000
END:STANDARD
BEGIN:DAYLIGHT
TZOFFSETFROM:+1000
TZOFFSETTO:+1100
TZNAME:AEDT
DTSTART:20241005T160000
END:DAYLIGHT
END:VTIMEZONE
BEGIN:VEVENT
DTSTART;TZID=Australia/Sydney:20240427T000000
DTEND;TZID=Australia/Sydney:20240428T235959
DTSTAMP:20260421T051319
CREATED:20240424T014529Z
LAST-MODIFIED:20240424T065322Z
UID:10000185-1714176000-1714348799@ffh.farm
SUMMARY:Working Bee
DESCRIPTION:If it is of interest to you\, please let us know by email the Board. We are\nopen to starting on the Friday (if it suits)\, or stick with Saturday and\nSunday. Camping is available and a toilet will be provided.
URL:https://ffh.farm/event/working-bee-15/
LOCATION:FFH – Hardview\, 2246 Salisbury Road\, Salisbury\, NSW\, 2420\, Australia
CATEGORIES:Board - FFH Calendar
END:VEVENT
END:VCALENDAR