BEGIN:VCALENDAR
VERSION:2.0
PRODID:-//The Farm - ECPv6.2.3.2//NONSGML v1.0//EN
CALSCALE:GREGORIAN
METHOD:PUBLISH
X-ORIGINAL-URL:https://ffh.farm
X-WR-CALDESC:Events for The Farm
REFRESH-INTERVAL;VALUE=DURATION:PT1H
X-Robots-Tag:noindex
X-PUBLISHED-TTL:PT1H
BEGIN:VTIMEZONE
TZID:Australia/Sydney
BEGIN:STANDARD
TZOFFSETFROM:+1100
TZOFFSETTO:+1000
TZNAME:AEST
DTSTART:20250405T160000
END:STANDARD
BEGIN:DAYLIGHT
TZOFFSETFROM:+1000
TZOFFSETTO:+1100
TZNAME:AEDT
DTSTART:20251004T160000
END:DAYLIGHT
END:VTIMEZONE
BEGIN:VEVENT
DTSTART;TZID=Australia/Sydney:20250619T000000
DTEND;TZID=Australia/Sydney:20250619T235959
DTSTAMP:20260420T075039
CREATED:20250623T231853Z
LAST-MODIFIED:20250623T231853Z
UID:10000407-1750291200-1750377599@ffh.farm
SUMMARY:Harvest Working Bee
DESCRIPTION:Our butcher is now on the mend\, which is pleasing to hear. We’ve rescheduled for Thursday\, 19 June. Please RSVP via board@familyfarmhunter.com.au if you can assist. Thank you
URL:https://ffh.farm/event/harvest-working-bee/
LOCATION:FFH – Salea\, 2441 Salisbury Rd\, Salisbury\, NSW\, 2420\, Australia
CATEGORIES:Board - FFH Calendar
END:VEVENT
END:VCALENDAR