BEGIN:VCALENDAR
VERSION:2.0
PRODID:-//The Farm - ECPv6.2.3.2//NONSGML v1.0//EN
CALSCALE:GREGORIAN
METHOD:PUBLISH
X-WR-CALNAME:The Farm
X-ORIGINAL-URL:https://ffh.farm
X-WR-CALDESC:Events for The Farm
REFRESH-INTERVAL;VALUE=DURATION:PT1H
X-Robots-Tag:noindex
X-PUBLISHED-TTL:PT1H
BEGIN:VTIMEZONE
TZID:Australia/Sydney
BEGIN:STANDARD
TZOFFSETFROM:+1100
TZOFFSETTO:+1000
TZNAME:AEST
DTSTART:20250405T160000
END:STANDARD
BEGIN:DAYLIGHT
TZOFFSETFROM:+1000
TZOFFSETTO:+1100
TZNAME:AEDT
DTSTART:20251004T160000
END:DAYLIGHT
END:VTIMEZONE
BEGIN:VEVENT
DTSTART;TZID=Australia/Sydney:20250926T000000
DTEND;TZID=Australia/Sydney:20250928T235959
DTSTAMP:20260420T034727
CREATED:20251013T114633Z
LAST-MODIFIED:20251013T114633Z
UID:10000441-1758844800-1759103999@ffh.farm
SUMMARY:Annual General Meeting
DESCRIPTION:Agenda provided in communications. Starting at 9am Saturday morning.
URL:https://ffh.farm/event/annual-general-meeting/
LOCATION:FFH – Hardview\, 2246 Salisbury Road\, Salisbury\, NSW\, 2420\, Australia
CATEGORIES:Board - FFH Calendar
END:VEVENT
END:VCALENDAR