BEGIN:VCALENDAR
VERSION:2.0
PRODID:-//The Farm - ECPv6.2.3.2//NONSGML v1.0//EN
CALSCALE:GREGORIAN
METHOD:PUBLISH
X-WR-CALNAME:The Farm
X-ORIGINAL-URL:https://ffh.farm
X-WR-CALDESC:Events for The Farm
REFRESH-INTERVAL;VALUE=DURATION:PT1H
X-Robots-Tag:noindex
X-PUBLISHED-TTL:PT1H
BEGIN:VTIMEZONE
TZID:Australia/Sydney
BEGIN:STANDARD
TZOFFSETFROM:+1100
TZOFFSETTO:+1000
TZNAME:AEST
DTSTART:20230401T160000
END:STANDARD
BEGIN:DAYLIGHT
TZOFFSETFROM:+1000
TZOFFSETTO:+1100
TZNAME:AEDT
DTSTART:20230930T160000
END:DAYLIGHT
END:VTIMEZONE
BEGIN:VEVENT
DTSTART;TZID=Australia/Sydney:20230707T150000
DTEND;TZID=Australia/Sydney:20230707T210000
DTSTAMP:20260421T202624
CREATED:20231116T123859Z
LAST-MODIFIED:20231116T123859Z
UID:10000004-1688742000-1688763600@ffh.farm
SUMMARY:FFH - Party Weekend
DESCRIPTION:Campers arrive and set up\, helping with party set up and self catered dinner
URL:https://ffh.farm/event/ffh-party-weekend/
LOCATION:FFH – Salea\, 2441 Salisbury Rd\, Salisbury\, NSW\, 2420\, Australia
CATEGORIES:Board - FFH Calendar
END:VEVENT
BEGIN:VEVENT
DTSTART;TZID=Australia/Sydney:20230708T000000
DTEND;TZID=Australia/Sydney:20230708T235959
DTSTAMP:20260421T202624
CREATED:20231116T125010Z
LAST-MODIFIED:20231116T125010Z
UID:10000006-1688774400-1688860799@ffh.farm
SUMMARY:FFH - Party Weekend
DESCRIPTION:8:30 am – Hike to the viewing platform \n12:30 pm – Party begins\, lunch is open \n3:00 pm – Q&A with the Board \n5:00 pm – Bon fire
URL:https://ffh.farm/event/ffh-party-weekend-3/
LOCATION:FFH – Salea\, 2441 Salisbury Rd\, Salisbury\, NSW\, 2420\, Australia
CATEGORIES:Board - FFH Calendar
END:VEVENT
BEGIN:VEVENT
DTSTART;TZID=Australia/Sydney:20230709T080000
DTEND;TZID=Australia/Sydney:20230709T140000
DTSTAMP:20260421T202624
CREATED:20231116T125451Z
LAST-MODIFIED:20231116T125451Z
UID:10000007-1688889600-1688911200@ffh.farm
SUMMARY:FFH - Party Weekend
DESCRIPTION:8:00 am – Women’s Circle \n9:00 am – Men’s Circle \nSelf catering day \nClean up post party
URL:https://ffh.farm/event/ffh-party-weekend-4/
LOCATION:FFH – Salea\, 2441 Salisbury Rd\, Salisbury\, NSW\, 2420\, Australia
CATEGORIES:Board - FFH Calendar
END:VEVENT
END:VCALENDAR