BEGIN:VCALENDAR
VERSION:2.0
PRODID:-//The Farm - ECPv6.2.3.2//NONSGML v1.0//EN
CALSCALE:GREGORIAN
METHOD:PUBLISH
X-ORIGINAL-URL:https://ffh.farm
X-WR-CALDESC:Events for The Farm
REFRESH-INTERVAL;VALUE=DURATION:PT1H
X-Robots-Tag:noindex
X-PUBLISHED-TTL:PT1H
BEGIN:VTIMEZONE
TZID:Australia/Sydney
BEGIN:STANDARD
TZOFFSETFROM:+1100
TZOFFSETTO:+1000
TZNAME:AEST
DTSTART:20230401T160000
END:STANDARD
BEGIN:DAYLIGHT
TZOFFSETFROM:+1000
TZOFFSETTO:+1100
TZNAME:AEDT
DTSTART:20230930T160000
END:DAYLIGHT
END:VTIMEZONE
BEGIN:VEVENT
DTSTART;TZID=Australia/Sydney:20231109T193000
DTEND;TZID=Australia/Sydney:20231109T203000
DTSTAMP:20260421T150717
CREATED:20231116T135750Z
LAST-MODIFIED:20231116T135750Z
UID:10000013-1699558200-1699561800@ffh.farm
SUMMARY:Potential Co-owner Introduction to FFH
DESCRIPTION:Hello Potential Co-owners \nThis Thursday 9th November at 7:30pm the Board of Family Farm Hunter will be having a video call for those who are thinking about investing and becoming co-owners. \nDuring the call we will discuss:\n– what it means to be a co-owner; our values & vision\n– food production and the importance of community\n– our farm in Salisbury NSW\n– the farming plan\n– the acquisition plan that will help support it\n– Bricklet and next steps if you are interested \nPlease join us and ask any questions needed to help you understand if this investment is right for you.
URL:https://ffh.farm/event/potential-co-owner-introduction-to-ffh/
LOCATION:Online
CATEGORIES:Board - FFH Calendar
END:VEVENT
BEGIN:VEVENT
DTSTART;TZID=Australia/Sydney:20231112T110000
DTEND;TZID=Australia/Sydney:20231112T123000
DTSTAMP:20260421T150717
CREATED:20231116T121508Z
LAST-MODIFIED:20231116T121508Z
UID:10000001-1699786800-1699792200@ffh.farm
SUMMARY:Farm 2 Viewing - 2246 Salisbury Rd
DESCRIPTION:Viewing Farm 2 with the co-owners
URL:https://ffh.farm/event/farm-2-viewing-2246-salisbury-rd/
CATEGORIES:Board - FFH Calendar
END:VEVENT
END:VCALENDAR