BEGIN:VCALENDAR
VERSION:2.0
PRODID:-//The Farm - ECPv6.2.3.2//NONSGML v1.0//EN
CALSCALE:GREGORIAN
METHOD:PUBLISH
X-WR-CALNAME:The Farm
X-ORIGINAL-URL:https://ffh.farm
X-WR-CALDESC:Events for The Farm
REFRESH-INTERVAL;VALUE=DURATION:PT1H
X-Robots-Tag:noindex
X-PUBLISHED-TTL:PT1H
BEGIN:VTIMEZONE
TZID:Australia/Sydney
BEGIN:STANDARD
TZOFFSETFROM:+1100
TZOFFSETTO:+1000
TZNAME:AEST
DTSTART:20240406T160000
END:STANDARD
BEGIN:DAYLIGHT
TZOFFSETFROM:+1000
TZOFFSETTO:+1100
TZNAME:AEDT
DTSTART:20241005T160000
END:DAYLIGHT
END:VTIMEZONE
BEGIN:VEVENT
DTSTART;TZID=Australia/Sydney:20240111T163000
DTEND;TZID=Australia/Sydney:20240111T164500
DTSTAMP:20260421T150614
CREATED:20240219T114134Z
LAST-MODIFIED:20240219T114257Z
UID:10000137-1704990600-1704991500@ffh.farm
SUMMARY:Church Settled
DESCRIPTION:Family Farm Events – Settlement of the Church
URL:https://ffh.farm/event/church-settled/
LOCATION:FFE – The Church\, 2248 Salisbury Rd\, Salisbury\, NSW\, 2420\, Australia
CATEGORIES:Board - FFH Calendar
END:VEVENT
BEGIN:VEVENT
DTSTART;TZID=Australia/Sydney:20240113T000000
DTEND;TZID=Australia/Sydney:20240114T235959
DTSTAMP:20260421T150614
CREATED:20231217T030747Z
LAST-MODIFIED:20231217T030747Z
UID:10000051-1705104000-1705276799@ffh.farm
SUMMARY:Working Bee
DESCRIPTION:SAVE THE DATE: Working bee planned for weekend of 13/14 January 2024. More details to follow. With lots of projects in the pipeline we are seeking to immediately kick off co-owner working bees at the farm. We hope to make camping available for the weekend.
URL:https://ffh.farm/event/working-bee-2/
LOCATION:FFH – Salea\, 2441 Salisbury Rd\, Salisbury\, NSW\, 2420\, Australia
CATEGORIES:Board - FFH Calendar
END:VEVENT
END:VCALENDAR