BEGIN:VCALENDAR
VERSION:2.0
PRODID:-//The Farm - ECPv6.2.3.2//NONSGML v1.0//EN
CALSCALE:GREGORIAN
METHOD:PUBLISH
X-ORIGINAL-URL:https://ffh.farm
X-WR-CALDESC:Events for The Farm
REFRESH-INTERVAL;VALUE=DURATION:PT1H
X-Robots-Tag:noindex
X-PUBLISHED-TTL:PT1H
BEGIN:VTIMEZONE
TZID:Australia/Sydney
BEGIN:STANDARD
TZOFFSETFROM:+1100
TZOFFSETTO:+1000
TZNAME:AEST
DTSTART:20240406T160000
END:STANDARD
BEGIN:DAYLIGHT
TZOFFSETFROM:+1000
TZOFFSETTO:+1100
TZNAME:AEDT
DTSTART:20241005T160000
END:DAYLIGHT
END:VTIMEZONE
BEGIN:VEVENT
DTSTART;TZID=Australia/Sydney:20240229T193000
DTEND;TZID=Australia/Sydney:20240229T210000
DTSTAMP:20260421T101420
CREATED:20240308T081319Z
LAST-MODIFIED:20240308T081319Z
UID:10000159-1709235000-1709240400@ffh.farm
SUMMARY:Town Hall - Financial Snapshot
DESCRIPTION:Dear Family Farm Hunter Co-Owner\, \nAs mentioned in the last communications a Town Hall meeting is on tonight (29th February 2024) @ 7:30pm to provide an opportunity to ask questions about the Financial Snapshot in last week’s memorandum communication found here.\nPlease join on the following link. \nmeet.ecarer.com.au/WG \nAfter the meeting and if you haven’t done so already please complete the co-owner question regarding your support or not support for the Financial Snapshot. The question can be found at the bottom of the Memorandum here \nThe 7 question survey about your views on Community\, Emergency and Education will close this Sunday. If you haven’t already responded please go to this link to share your views. \nYours sincerely\,\nThe Board.
URL:https://ffh.farm/event/town-hall-financial-snapshot/
LOCATION:Online
CATEGORIES:Board - FFH Calendar
END:VEVENT
END:VCALENDAR