BEGIN:VCALENDAR
VERSION:2.0
PRODID:-//The Farm - ECPv6.2.3.2//NONSGML v1.0//EN
CALSCALE:GREGORIAN
METHOD:PUBLISH
X-ORIGINAL-URL:https://ffh.farm
X-WR-CALDESC:Events for The Farm
REFRESH-INTERVAL;VALUE=DURATION:PT1H
X-Robots-Tag:noindex
X-PUBLISHED-TTL:PT1H
BEGIN:VTIMEZONE
TZID:Australia/Sydney
BEGIN:STANDARD
TZOFFSETFROM:+1100
TZOFFSETTO:+1000
TZNAME:AEST
DTSTART:20240406T160000
END:STANDARD
BEGIN:DAYLIGHT
TZOFFSETFROM:+1000
TZOFFSETTO:+1100
TZNAME:AEDT
DTSTART:20241005T160000
END:DAYLIGHT
END:VTIMEZONE
BEGIN:VEVENT
DTSTART;TZID=Australia/Sydney:20240517T160000
DTEND;TZID=Australia/Sydney:20240517T180000
DTSTAMP:20260421T051245
CREATED:20240513T085905Z
LAST-MODIFIED:20240513T085905Z
UID:10000188-1715961600-1715968800@ffh.farm
SUMMARY:Future of Farming Soil Health Seminar
DESCRIPTION:Future of Farming’s Soil health seminar (4-6pm) at Dungog RSL. Note this seminar is being run by Dungog Council’s Chamber of Commerce and so is an external event\, which has kindly been offered to our co-owners. If you are interested in attending\, please book your tickets separately via https://www.trybooking.com/CQYSP
URL:https://ffh.farm/event/future-of-farming-soil-health-seminar/
LOCATION:Dungog RSL\, 94-96 Lord Street\, Dungog NSW\, 2420
CATEGORIES:Board - FFH Calendar
END:VEVENT
END:VCALENDAR