BEGIN:VCALENDAR
VERSION:2.0
PRODID:-//The Farm - ECPv6.2.3.2//NONSGML v1.0//EN
CALSCALE:GREGORIAN
METHOD:PUBLISH
X-ORIGINAL-URL:https://ffh.farm
X-WR-CALDESC:Events for The Farm
REFRESH-INTERVAL;VALUE=DURATION:PT1H
X-Robots-Tag:noindex
X-PUBLISHED-TTL:PT1H
BEGIN:VTIMEZONE
TZID:Australia/Sydney
BEGIN:STANDARD
TZOFFSETFROM:+1100
TZOFFSETTO:+1000
TZNAME:AEST
DTSTART:20240406T160000
END:STANDARD
BEGIN:DAYLIGHT
TZOFFSETFROM:+1000
TZOFFSETTO:+1100
TZNAME:AEDT
DTSTART:20241005T160000
END:DAYLIGHT
END:VTIMEZONE
BEGIN:VEVENT
DTSTART;TZID=Australia/Sydney:20240919T193000
DTEND;TZID=Australia/Sydney:20240919T210000
DTSTAMP:20260421T021944
CREATED:20240907T050009Z
LAST-MODIFIED:20240918T114813Z
UID:10000270-1726774200-1726779600@ffh.farm
SUMMARY:AGM Planning Meeting
DESCRIPTION:Please consider participating in the AGM weekend planning. We’ll meet again online this Thursday at 7.30pm.
URL:https://ffh.farm/event/agm-planning-meeting/2024-09-19/
LOCATION:Online
CATEGORIES:Board - FFH Calendar
END:VEVENT
END:VCALENDAR