BEGIN:VCALENDAR
VERSION:2.0
PRODID:-//The Farm - ECPv6.2.3.2//NONSGML v1.0//EN
CALSCALE:GREGORIAN
METHOD:PUBLISH
X-ORIGINAL-URL:https://ffh.farm
X-WR-CALDESC:Events for The Farm
REFRESH-INTERVAL;VALUE=DURATION:PT1H
X-Robots-Tag:noindex
X-PUBLISHED-TTL:PT1H
BEGIN:VTIMEZONE
TZID:Australia/Sydney
BEGIN:STANDARD
TZOFFSETFROM:+1100
TZOFFSETTO:+1000
TZNAME:AEST
DTSTART:20250405T160000
END:STANDARD
BEGIN:DAYLIGHT
TZOFFSETFROM:+1000
TZOFFSETTO:+1100
TZNAME:AEDT
DTSTART:20251004T160000
END:DAYLIGHT
END:VTIMEZONE
BEGIN:VEVENT
DTSTART;TZID=Australia/Sydney:20250317T193000
DTEND;TZID=Australia/Sydney:20250317T210000
DTSTAMP:20260420T144727
CREATED:20250313T002338Z
LAST-MODIFIED:20250313T002338Z
UID:10000339-1742239800-1742245200@ffh.farm
SUMMARY:Townhall - Investment in plant & equipment
DESCRIPTION:A new memorandum has been posted on the website\, providing recommendations for the purchase of and investment in plant & equipment to enable onsite production of farm produce and maximisation of rental return from the residential buildings at SALEA as well as proposed campsite at Hardview. \nIt asks the co-owners to vote to approve the expenditure for the furtherment of our farm’s aspirations to purchase chemical-free\, nutrient dense food. By Sunday April 6th April 2025. \nWe have arranged a townhall meeting of co-owners to discuss the various projects and to facilitate Q&A.
URL:https://ffh.farm/event/townhall-investment-in-plant-equipment/
LOCATION:Online
CATEGORIES:Board - FFH Calendar
END:VEVENT
END:VCALENDAR