BEGIN:VCALENDAR
VERSION:2.0
PRODID:-//The Farm - ECPv6.2.3.2//NONSGML v1.0//EN
CALSCALE:GREGORIAN
METHOD:PUBLISH
X-ORIGINAL-URL:https://ffh.farm
X-WR-CALDESC:Events for The Farm
REFRESH-INTERVAL;VALUE=DURATION:PT1H
X-Robots-Tag:noindex
X-PUBLISHED-TTL:PT1H
BEGIN:VTIMEZONE
TZID:Australia/Sydney
BEGIN:STANDARD
TZOFFSETFROM:+1100
TZOFFSETTO:+1000
TZNAME:AEST
DTSTART:20250405T160000
END:STANDARD
BEGIN:DAYLIGHT
TZOFFSETFROM:+1000
TZOFFSETTO:+1100
TZNAME:AEDT
DTSTART:20251004T160000
END:DAYLIGHT
END:VTIMEZONE
BEGIN:VEVENT
DTSTART;TZID=Australia/Sydney:20250703T200000
DTEND;TZID=Australia/Sydney:20250703T213000
DTSTAMP:20260420T091539
CREATED:20250616T104421Z
LAST-MODIFIED:20250616T104421Z
UID:10000401-1751572800-1751578200@ffh.farm
SUMMARY:Goals & Objectives – Town Hall Meeting
DESCRIPTION:We have called a town hall meeting at 8pm on Thursday\, 3 July 2025 to discuss the two scenarios listed in the communications sent Saturday 14th June and obtain feedback.
URL:https://ffh.farm/event/goals-objectives-town-hall-meeting/
LOCATION:Online
CATEGORIES:Board - FFH Calendar
END:VEVENT
END:VCALENDAR