BEGIN:VCALENDAR
VERSION:2.0
PRODID:-//The Farm - ECPv6.2.3.2//NONSGML v1.0//EN
CALSCALE:GREGORIAN
METHOD:PUBLISH
X-WR-CALNAME:The Farm
X-ORIGINAL-URL:https://ffh.farm
X-WR-CALDESC:Events for The Farm
REFRESH-INTERVAL;VALUE=DURATION:PT1H
X-Robots-Tag:noindex
X-PUBLISHED-TTL:PT1H
BEGIN:VTIMEZONE
TZID:Australia/Sydney
BEGIN:STANDARD
TZOFFSETFROM:+1100
TZOFFSETTO:+1000
TZNAME:AEST
DTSTART:20250405T160000
END:STANDARD
BEGIN:DAYLIGHT
TZOFFSETFROM:+1000
TZOFFSETTO:+1100
TZNAME:AEDT
DTSTART:20251004T160000
END:DAYLIGHT
END:VTIMEZONE
BEGIN:VEVENT
DTSTART;TZID=Australia/Sydney:20250808T000000
DTEND;TZID=Australia/Sydney:20250810T235959
DTSTAMP:20260420T103312
CREATED:20250806T110540Z
LAST-MODIFIED:20250806T110540Z
UID:10000421-1754611200-1754870399@ffh.farm
SUMMARY:Site visit to Danthonia
DESCRIPTION:site visit to Danthonia 8-10 August
URL:https://ffh.farm/event/site-visit-to-danthonia/
CATEGORIES:Board - FFH Calendar
END:VEVENT
END:VCALENDAR