BEGIN:VCALENDAR
VERSION:2.0
PRODID:-//The Farm - ECPv6.2.3.2//NONSGML v1.0//EN
CALSCALE:GREGORIAN
METHOD:PUBLISH
X-ORIGINAL-URL:https://ffh.farm
X-WR-CALDESC:Events for The Farm
REFRESH-INTERVAL;VALUE=DURATION:PT1H
X-Robots-Tag:noindex
X-PUBLISHED-TTL:PT1H
BEGIN:VTIMEZONE
TZID:Australia/Sydney
BEGIN:STANDARD
TZOFFSETFROM:+1100
TZOFFSETTO:+1000
TZNAME:AEST
DTSTART:20250405T160000
END:STANDARD
BEGIN:DAYLIGHT
TZOFFSETFROM:+1000
TZOFFSETTO:+1100
TZNAME:AEDT
DTSTART:20251004T160000
END:DAYLIGHT
END:VTIMEZONE
BEGIN:VEVENT
DTSTART;TZID=Australia/Sydney:20251003T000000
DTEND;TZID=Australia/Sydney:20251005T235959
DTSTAMP:20260420T051119
CREATED:20251013T121312Z
LAST-MODIFIED:20251013T121312Z
UID:10000450-1759449600-1759708799@ffh.farm
SUMMARY:Site visit to Danthonia
DESCRIPTION:Message for those that are coming up to Danthonia at Inverell between the 3rd/4th of Oct to the 5th/6th. \nIt will an interesting look at a 6000acre farm that started down the regenerative farming route back in 2001. \nFood and board is officially free\, but a gift of some sort would be nice. \nThe Men folk seem to like IPA beer\, or classic types\, whereas nice table wine to share at meals is liked by all.\n(A Christian community that likes a drink!) \nIf those that have signed on and sent their attendance form please inform me of your expected arrival time /date and mobile phone numbers. \nRegards \nJohn Aquilina
URL:https://ffh.farm/event/site-visit-to-danthonia-2/
CATEGORIES:Board - FFH Calendar
END:VEVENT
END:VCALENDAR