BEGIN:VCALENDAR
VERSION:2.0
PRODID:-//The Farm - ECPv6.2.3.2//NONSGML v1.0//EN
CALSCALE:GREGORIAN
METHOD:PUBLISH
X-WR-CALNAME:The Farm
X-ORIGINAL-URL:https://ffh.farm
X-WR-CALDESC:Events for The Farm
REFRESH-INTERVAL;VALUE=DURATION:PT1H
X-Robots-Tag:noindex
X-PUBLISHED-TTL:PT1H
BEGIN:VTIMEZONE
TZID:Australia/Sydney
BEGIN:STANDARD
TZOFFSETFROM:+1100
TZOFFSETTO:+1000
TZNAME:AEST
DTSTART:20240406T160000
END:STANDARD
BEGIN:DAYLIGHT
TZOFFSETFROM:+1000
TZOFFSETTO:+1100
TZNAME:AEDT
DTSTART:20241005T160000
END:DAYLIGHT
BEGIN:STANDARD
TZOFFSETFROM:+1100
TZOFFSETTO:+1000
TZNAME:AEST
DTSTART:20250405T160000
END:STANDARD
BEGIN:DAYLIGHT
TZOFFSETFROM:+1000
TZOFFSETTO:+1100
TZNAME:AEDT
DTSTART:20251004T160000
END:DAYLIGHT
END:VTIMEZONE
BEGIN:VEVENT
DTSTART;TZID=Australia/Sydney:20241129T140000
DTEND;TZID=Australia/Sydney:20241201T100000
DTSTAMP:20260420T175846
CREATED:20241111T062634Z
LAST-MODIFIED:20241111T062634Z
UID:10000281-1732888800-1733047200@ffh.farm
SUMMARY:Booking - Temporary Camp Ground (Left of Church) - #6497
DESCRIPTION:
URL:https://ffh.farm/event/booking-temporary-camp-ground-left-of-church-6497/
CATEGORIES:Camping Bookings
END:VEVENT
BEGIN:VEVENT
DTSTART;TZID=Australia/Sydney:20241221T140000
DTEND;TZID=Australia/Sydney:20241223T100000
DTSTAMP:20260420T175846
CREATED:20241218T093416Z
LAST-MODIFIED:20241218T093416Z
UID:10000277-1734789600-1734948000@ffh.farm
SUMMARY:Booking - House 2 - #6486
DESCRIPTION:
URL:https://ffh.farm/event/booking-parents-retreat-6486/
CATEGORIES:Camping Bookings
END:VEVENT
BEGIN:VEVENT
DTSTART;TZID=Australia/Sydney:20241224T140000
DTEND;TZID=Australia/Sydney:20241226T100000
DTSTAMP:20260420T175846
CREATED:20241218T091620Z
LAST-MODIFIED:20241218T091620Z
UID:10000295-1735048800-1735207200@ffh.farm
SUMMARY:Booking - House 2 - #6566
DESCRIPTION:
URL:https://ffh.farm/event/booking-house-2-6566/
CATEGORIES:Camping Bookings
END:VEVENT
BEGIN:VEVENT
DTSTART;TZID=Australia/Sydney:20241227T140000
DTEND;TZID=Australia/Sydney:20250102T100000
DTSTAMP:20260420T175846
CREATED:20240907T125017Z
LAST-MODIFIED:20240907T125017Z
UID:10000268-1735308000-1735812000@ffh.farm
SUMMARY:Booking - House 2 - #6354
DESCRIPTION:
URL:https://ffh.farm/event/booking-house-2-6354/
CATEGORIES:Camping Bookings
END:VEVENT
END:VCALENDAR