BEGIN:VCALENDAR
VERSION:2.0
PRODID:-//The Farm - ECPv6.2.3.2//NONSGML v1.0//EN
CALSCALE:GREGORIAN
METHOD:PUBLISH
X-ORIGINAL-URL:https://ffh.farm
X-WR-CALDESC:Events for The Farm
REFRESH-INTERVAL;VALUE=DURATION:PT1H
X-Robots-Tag:noindex
X-PUBLISHED-TTL:PT1H
BEGIN:VTIMEZONE
TZID:Australia/Sydney
BEGIN:STANDARD
TZOFFSETFROM:+1100
TZOFFSETTO:+1000
TZNAME:AEST
DTSTART:20250405T160000
END:STANDARD
BEGIN:DAYLIGHT
TZOFFSETFROM:+1000
TZOFFSETTO:+1100
TZNAME:AEDT
DTSTART:20251004T160000
END:DAYLIGHT
END:VTIMEZONE
BEGIN:VEVENT
DTSTART;TZID=Australia/Sydney:20250123T140000
DTEND;TZID=Australia/Sydney:20250127T100000
DTSTAMP:20260420T180128
CREATED:20250115T050418Z
LAST-MODIFIED:20250115T050418Z
UID:10000303-1737640800-1737972000@ffh.farm
SUMMARY:Booking - Temporary Camp Ground (Left of Church) - #6652
DESCRIPTION:
URL:https://ffh.farm/event/booking-temporary-camp-ground-left-of-church-6652/
CATEGORIES:Camping Bookings
END:VEVENT
BEGIN:VEVENT
DTSTART;TZID=Australia/Sydney:20250124T140000
DTEND;TZID=Australia/Sydney:20250126T100000
DTSTAMP:20260420T180128
CREATED:20250111T194232Z
LAST-MODIFIED:20250111T194232Z
UID:10000301-1737727200-1737885600@ffh.farm
SUMMARY:Booking - Temporary Camp Ground (Left of Church) - #6641
DESCRIPTION:
URL:https://ffh.farm/event/booking-temporary-camp-ground-left-of-church-6641/
CATEGORIES:Camping Bookings
END:VEVENT
BEGIN:VEVENT
DTSTART;TZID=Australia/Sydney:20250124T140000
DTEND;TZID=Australia/Sydney:20250127T100000
DTSTAMP:20260420T180128
CREATED:20250113T095312Z
LAST-MODIFIED:20250113T095312Z
UID:10000302-1737727200-1737972000@ffh.farm
SUMMARY:Booking - Temporary Camp Ground (Left of Church) - #6644
DESCRIPTION:
URL:https://ffh.farm/event/booking-temporary-camp-ground-left-of-church-6644/
CATEGORIES:Camping Bookings
END:VEVENT
BEGIN:VEVENT
DTSTART;TZID=Australia/Sydney:20250124T140000
DTEND;TZID=Australia/Sydney:20250128T100000
DTSTAMP:20260420T180128
CREATED:20241215T223930Z
LAST-MODIFIED:20241215T223930Z
UID:10000293-1737727200-1738058400@ffh.farm
SUMMARY:Booking - House 2 - #6560
DESCRIPTION:
URL:https://ffh.farm/event/booking-house-2-6560/
CATEGORIES:Camping Bookings
END:VEVENT
BEGIN:VEVENT
DTSTART;TZID=Australia/Sydney:20250125T140000
DTEND;TZID=Australia/Sydney:20250126T100000
DTSTAMP:20260420T180128
CREATED:20250122T232801Z
LAST-MODIFIED:20250122T232801Z
UID:10000304-1737813600-1737885600@ffh.farm
SUMMARY:Booking - Temporary Camp Ground (Left of Church) - #6664
DESCRIPTION:
URL:https://ffh.farm/event/booking-temporary-camp-ground-left-of-church-6664/
CATEGORIES:Camping Bookings
END:VEVENT
END:VCALENDAR