BEGIN:VCALENDAR
VERSION:2.0
PRODID:-//The Farm - ECPv6.2.3.2//NONSGML v1.0//EN
CALSCALE:GREGORIAN
METHOD:PUBLISH
X-WR-CALNAME:The Farm
X-ORIGINAL-URL:https://ffh.farm
X-WR-CALDESC:Events for The Farm
REFRESH-INTERVAL;VALUE=DURATION:PT1H
X-Robots-Tag:noindex
X-PUBLISHED-TTL:PT1H
BEGIN:VTIMEZONE
TZID:Australia/Sydney
BEGIN:STANDARD
TZOFFSETFROM:+1100
TZOFFSETTO:+1000
TZNAME:AEST
DTSTART:20250405T160000
END:STANDARD
BEGIN:DAYLIGHT
TZOFFSETFROM:+1000
TZOFFSETTO:+1100
TZNAME:AEDT
DTSTART:20251004T160000
END:DAYLIGHT
END:VTIMEZONE
BEGIN:VEVENT
DTSTART;TZID=Australia/Sydney:20250417T140000
DTEND;TZID=Australia/Sydney:20250421T100000
DTSTAMP:20260420T133827
CREATED:20250226T131738Z
LAST-MODIFIED:20250226T131738Z
UID:10000332-1744898400-1745229600@ffh.farm
SUMMARY:Booking - House 2 - #6747
DESCRIPTION:
URL:https://ffh.farm/event/booking-house-2-6747/
CATEGORIES:Camping Bookings
END:VEVENT
BEGIN:VEVENT
DTSTART;TZID=Australia/Sydney:20250418T140000
DTEND;TZID=Australia/Sydney:20250420T100000
DTSTAMP:20260420T133827
CREATED:20250326T234023Z
LAST-MODIFIED:20250326T234023Z
UID:10000351-1744984800-1745143200@ffh.farm
SUMMARY:Booking - Temporary Camp Ground (Left of Church) - #6848
DESCRIPTION:
URL:https://ffh.farm/event/booking-temporary-camp-ground-left-of-church-6848/
CATEGORIES:Camping Bookings
END:VEVENT
BEGIN:VEVENT
DTSTART;TZID=Australia/Sydney:20250418T140000
DTEND;TZID=Australia/Sydney:20250420T100000
DTSTAMP:20260420T133827
CREATED:20250411T021027Z
LAST-MODIFIED:20250411T021027Z
UID:10000357-1744984800-1745143200@ffh.farm
SUMMARY:Booking - Temporary Camp Ground (Left of Church) - #6885
DESCRIPTION:
URL:https://ffh.farm/event/booking-temporary-camp-ground-left-of-church-6885/
CATEGORIES:Camping Bookings
END:VEVENT
BEGIN:VEVENT
DTSTART;TZID=Australia/Sydney:20250418T140000
DTEND;TZID=Australia/Sydney:20250420T100000
DTSTAMP:20260420T133827
CREATED:20250413T015124Z
LAST-MODIFIED:20250413T015124Z
UID:10000363-1744984800-1745143200@ffh.farm
SUMMARY:Booking - Temporary Camp Ground (Left of Church) - #6922
DESCRIPTION:
URL:https://ffh.farm/event/booking-temporary-camp-ground-left-of-church-6922/
CATEGORIES:Camping Bookings
END:VEVENT
BEGIN:VEVENT
DTSTART;TZID=Australia/Sydney:20250418T140000
DTEND;TZID=Australia/Sydney:20250420T100000
DTSTAMP:20260420T133827
CREATED:20250413T225542Z
LAST-MODIFIED:20250413T225542Z
UID:10000364-1744984800-1745143200@ffh.farm
SUMMARY:Booking - Temporary Camp Ground (Left of Church) - #6926
DESCRIPTION:
URL:https://ffh.farm/event/booking-temporary-camp-ground-left-of-church-6926/
CATEGORIES:Camping Bookings
END:VEVENT
BEGIN:VEVENT
DTSTART;TZID=Australia/Sydney:20250418T140000
DTEND;TZID=Australia/Sydney:20250422T100000
DTSTAMP:20260420T133827
CREATED:20250412T091626Z
LAST-MODIFIED:20250412T091626Z
UID:10000362-1744984800-1745316000@ffh.farm
SUMMARY:Booking - Temporary Camp Ground (Left of Church) - #6917
DESCRIPTION:
URL:https://ffh.farm/event/booking-temporary-camp-ground-left-of-church-6917/
CATEGORIES:Camping Bookings
END:VEVENT
BEGIN:VEVENT
DTSTART;TZID=Australia/Sydney:20250419T140000
DTEND;TZID=Australia/Sydney:20250420T100000
DTSTAMP:20260420T133827
CREATED:20250414T042048Z
LAST-MODIFIED:20250414T042048Z
UID:10000365-1745071200-1745143200@ffh.farm
SUMMARY:Booking - Temporary Camp Ground (Left of Church) - #6931
DESCRIPTION:
URL:https://ffh.farm/event/booking-temporary-camp-ground-left-of-church-6931/
CATEGORIES:Camping Bookings
END:VEVENT
BEGIN:VEVENT
DTSTART;TZID=Australia/Sydney:20250420T140000
DTEND;TZID=Australia/Sydney:20250421T100000
DTSTAMP:20260420T133827
CREATED:20250414T115118Z
LAST-MODIFIED:20250414T115118Z
UID:10000368-1745157600-1745229600@ffh.farm
SUMMARY:Booking - Temporary Camp Ground (Left of Church) - #6940
DESCRIPTION:
URL:https://ffh.farm/event/booking-temporary-camp-ground-left-of-church-6940/
CATEGORIES:Camping Bookings
END:VEVENT
END:VCALENDAR