BEGIN:VCALENDAR
VERSION:2.0
PRODID:-//The Farm - ECPv6.2.3.2//NONSGML v1.0//EN
CALSCALE:GREGORIAN
METHOD:PUBLISH
X-ORIGINAL-URL:https://ffh.farm
X-WR-CALDESC:Events for The Farm
REFRESH-INTERVAL;VALUE=DURATION:PT1H
X-Robots-Tag:noindex
X-PUBLISHED-TTL:PT1H
BEGIN:VTIMEZONE
TZID:Australia/Sydney
BEGIN:STANDARD
TZOFFSETFROM:+1100
TZOFFSETTO:+1000
TZNAME:AEST
DTSTART:20250405T160000
END:STANDARD
BEGIN:DAYLIGHT
TZOFFSETFROM:+1000
TZOFFSETTO:+1100
TZNAME:AEDT
DTSTART:20251004T160000
END:DAYLIGHT
END:VTIMEZONE
BEGIN:VEVENT
DTSTART;TZID=Australia/Sydney:20250926T140000
DTEND;TZID=Australia/Sydney:20250929T100000
DTSTAMP:20260420T065320
CREATED:20250518T120237Z
LAST-MODIFIED:20250518T120237Z
UID:10000377-1758895200-1759140000@ffh.farm
SUMMARY:Booking - House 2 - #6989
DESCRIPTION:
URL:https://ffh.farm/event/booking-house-2-6989/
CATEGORIES:Camping Bookings
END:VEVENT
BEGIN:VEVENT
DTSTART;TZID=Australia/Sydney:20250926T140000
DTEND;TZID=Australia/Sydney:20250929T100000
DTSTAMP:20260420T065320
CREATED:20250913T072336Z
LAST-MODIFIED:20250913T072336Z
UID:10000427-1758895200-1759140000@ffh.farm
SUMMARY:Booking - Temporary Camp Ground (Left of Church) - #7320
DESCRIPTION:
URL:https://ffh.farm/event/booking-temporary-camp-ground-left-of-church-7320/
CATEGORIES:Camping Bookings
END:VEVENT
BEGIN:VEVENT
DTSTART;TZID=Australia/Sydney:20250927T140000
DTEND;TZID=Australia/Sydney:20250928T100000
DTSTAMP:20260420T065320
CREATED:20250923T005428Z
LAST-MODIFIED:20250923T005428Z
UID:10000429-1758981600-1759053600@ffh.farm
SUMMARY:Booking - Temporary Camp Ground (Left of Church) - #7338
DESCRIPTION:
URL:https://ffh.farm/event/booking-temporary-camp-ground-left-of-church-7338/
CATEGORIES:Camping Bookings
END:VEVENT
BEGIN:VEVENT
DTSTART;TZID=Australia/Sydney:20250927T140000
DTEND;TZID=Australia/Sydney:20250928T100000
DTSTAMP:20260420T065320
CREATED:20250923T010436Z
LAST-MODIFIED:20250923T010436Z
UID:10000430-1758981600-1759053600@ffh.farm
SUMMARY:Booking - Temporary Camp Ground (Left of Church) - #7341
DESCRIPTION:
URL:https://ffh.farm/event/booking-temporary-camp-ground-left-of-church-7341/
CATEGORIES:Camping Bookings
END:VEVENT
BEGIN:VEVENT
DTSTART;TZID=Australia/Sydney:20250927T140000
DTEND;TZID=Australia/Sydney:20250928T100000
DTSTAMP:20260420T065320
CREATED:20250924T234906Z
LAST-MODIFIED:20250924T234906Z
UID:10000431-1758981600-1759053600@ffh.farm
SUMMARY:Booking - Temporary Camp Ground (Left of Church) - #7344
DESCRIPTION:
URL:https://ffh.farm/event/booking-temporary-camp-ground-left-of-church-7344/
CATEGORIES:Camping Bookings
END:VEVENT
END:VCALENDAR