BEGIN:VCALENDAR
VERSION:2.0
PRODID:-//The Farm - ECPv6.2.3.2//NONSGML v1.0//EN
CALSCALE:GREGORIAN
METHOD:PUBLISH
X-WR-CALNAME:The Farm
X-ORIGINAL-URL:https://ffh.farm
X-WR-CALDESC:Events for The Farm
REFRESH-INTERVAL;VALUE=DURATION:PT1H
X-Robots-Tag:noindex
X-PUBLISHED-TTL:PT1H
BEGIN:VTIMEZONE
TZID:Australia/Sydney
BEGIN:STANDARD
TZOFFSETFROM:+1100
TZOFFSETTO:+1000
TZNAME:AEST
DTSTART:20250405T160000
END:STANDARD
BEGIN:DAYLIGHT
TZOFFSETFROM:+1000
TZOFFSETTO:+1100
TZNAME:AEDT
DTSTART:20251004T160000
END:DAYLIGHT
END:VTIMEZONE
BEGIN:VEVENT
DTSTART;TZID=Australia/Sydney:20250606T140000
DTEND;TZID=Australia/Sydney:20250609T100000
DTSTAMP:20260420T133719
CREATED:20250414T102239Z
LAST-MODIFIED:20250414T102239Z
UID:10000366-1749218400-1749463200@ffh.farm
SUMMARY:Booking - House 2 - #6934
DESCRIPTION:
URL:https://ffh.farm/event/booking-house-2-6934/
CATEGORIES:Camping Bookings
END:VEVENT
BEGIN:VEVENT
DTSTART;TZID=Australia/Sydney:20250613T140000
DTEND;TZID=Australia/Sydney:20250615T100000
DTSTAMP:20260420T133719
CREATED:20250303T082007Z
LAST-MODIFIED:20250303T082007Z
UID:10000336-1749823200-1749981600@ffh.farm
SUMMARY:Booking - House 2 - #6775
DESCRIPTION:
URL:https://ffh.farm/event/booking-house-2-6775/
CATEGORIES:Camping Bookings
END:VEVENT
BEGIN:VEVENT
DTSTART;TZID=Australia/Sydney:20250613T140000
DTEND;TZID=Australia/Sydney:20250615T100000
DTSTAMP:20260420T133719
CREATED:20250612T004028Z
LAST-MODIFIED:20250612T004028Z
UID:10000399-1749823200-1749981600@ffh.farm
SUMMARY:Booking - Temporary Camp Ground (Left of Church) - #7110
DESCRIPTION:
URL:https://ffh.farm/event/booking-temporary-camp-ground-left-of-church-7110/
CATEGORIES:Camping Bookings
END:VEVENT
END:VCALENDAR