BEGIN:VCALENDAR
VERSION:2.0
PRODID:-//The Farm - ECPv6.2.3.2//NONSGML v1.0//EN
CALSCALE:GREGORIAN
METHOD:PUBLISH
X-ORIGINAL-URL:https://ffh.farm
X-WR-CALDESC:Events for The Farm
REFRESH-INTERVAL;VALUE=DURATION:PT1H
X-Robots-Tag:noindex
X-PUBLISHED-TTL:PT1H
BEGIN:VTIMEZONE
TZID:Australia/Sydney
BEGIN:STANDARD
TZOFFSETFROM:+1100
TZOFFSETTO:+1000
TZNAME:AEST
DTSTART:20250405T160000
END:STANDARD
BEGIN:DAYLIGHT
TZOFFSETFROM:+1000
TZOFFSETTO:+1100
TZNAME:AEDT
DTSTART:20251004T160000
END:DAYLIGHT
END:VTIMEZONE
BEGIN:VEVENT
DTSTART;TZID=Australia/Sydney:20250912T140000
DTEND;TZID=Australia/Sydney:20250914T100000
DTSTAMP:20260420T105223
CREATED:20250603T233641Z
LAST-MODIFIED:20250603T233641Z
UID:10000370-1757685600-1757844000@ffh.farm
SUMMARY:Booking - House 2 - #6962
DESCRIPTION:
URL:https://ffh.farm/event/booking-house-2-6962/
CATEGORIES:Camping Bookings
END:VEVENT
END:VCALENDAR