BEGIN:VCALENDAR
VERSION:2.0
PRODID:-//The Farm - ECPv6.2.3.2//NONSGML v1.0//EN
CALSCALE:GREGORIAN
METHOD:PUBLISH
X-ORIGINAL-URL:https://ffh.farm
X-WR-CALDESC:Events for The Farm
REFRESH-INTERVAL;VALUE=DURATION:PT1H
X-Robots-Tag:noindex
X-PUBLISHED-TTL:PT1H
BEGIN:VTIMEZONE
TZID:Australia/Sydney
BEGIN:STANDARD
TZOFFSETFROM:+1100
TZOFFSETTO:+1000
TZNAME:AEST
DTSTART:20260404T160000
END:STANDARD
BEGIN:DAYLIGHT
TZOFFSETFROM:+1000
TZOFFSETTO:+1100
TZNAME:AEDT
DTSTART:20261003T160000
END:DAYLIGHT
END:VTIMEZONE
BEGIN:VEVENT
DTSTART;TZID=Australia/Sydney:20260123T140000
DTEND;TZID=Australia/Sydney:20260126T100000
DTSTAMP:20260420T012107
CREATED:20260119T233147Z
LAST-MODIFIED:20260119T233147Z
UID:10000460-1769176800-1769421600@ffh.farm
SUMMARY:Booking - Temporary Camp Ground (Left of Church) - #7494
DESCRIPTION:
URL:https://ffh.farm/event/booking-temporary-camp-ground-left-of-church-7494/
CATEGORIES:Camping Bookings
END:VEVENT
BEGIN:VEVENT
DTSTART;TZID=Australia/Sydney:20260124T140000
DTEND;TZID=Australia/Sydney:20260125T100000
DTSTAMP:20260420T012107
CREATED:20260120T031509Z
LAST-MODIFIED:20260120T031509Z
UID:10000461-1769263200-1769335200@ffh.farm
SUMMARY:Booking - Temporary Camp Ground (Left of Church) - #7497
DESCRIPTION:
URL:https://ffh.farm/event/booking-temporary-camp-ground-left-of-church-7497/
CATEGORIES:Camping Bookings
END:VEVENT
BEGIN:VEVENT
DTSTART;TZID=Australia/Sydney:20260124T140000
DTEND;TZID=Australia/Sydney:20260127T100000
DTSTAMP:20260420T012107
CREATED:20251013T120023Z
LAST-MODIFIED:20251013T120023Z
UID:10000447-1769263200-1769508000@ffh.farm
SUMMARY:Booking - House 2 - #7391
DESCRIPTION:
URL:https://ffh.farm/event/booking-house-2-7391/
CATEGORIES:Camping Bookings
END:VEVENT
END:VCALENDAR