BEGIN:VCALENDAR
VERSION:2.0
PRODID:-//The Farm - ECPv6.2.3.2//NONSGML v1.0//EN
CALSCALE:GREGORIAN
METHOD:PUBLISH
X-ORIGINAL-URL:https://ffh.farm
X-WR-CALDESC:Events for The Farm
REFRESH-INTERVAL;VALUE=DURATION:PT1H
X-Robots-Tag:noindex
X-PUBLISHED-TTL:PT1H
BEGIN:VTIMEZONE
TZID:Australia/Sydney
BEGIN:STANDARD
TZOFFSETFROM:+1100
TZOFFSETTO:+1000
TZNAME:AEST
DTSTART:20230401T160000
END:STANDARD
BEGIN:DAYLIGHT
TZOFFSETFROM:+1000
TZOFFSETTO:+1100
TZNAME:AEDT
DTSTART:20230930T160000
END:DAYLIGHT
END:VTIMEZONE
BEGIN:VEVENT
DTSTART;TZID=Australia/Sydney:20231218T190000
DTEND;TZID=Australia/Sydney:20231218T194500
DTSTAMP:20260420T144839
CREATED:20231218T043507Z
LAST-MODIFIED:20231218T043507Z
UID:10000053-1702926000-1702928700@ffh.farm
SUMMARY:Events & Kids Meeting
DESCRIPTION:Hi FFH Évents family\, looking forward to seeing you at the\nnext zoom meeting tonight\nDecember 18 at 7.00pm AEDT \nAgenda items are\n•Sat Event at Maree’s\n•Event 20/21 Jan\n•Event team going forward\n•FFH website/calendar \nThe link is only for 45 minutes so if you can get on right on 7 that would be great! \nhttps://us02web.zoom.us/j/89702614912?pwd=Q0hMRUNnRmNnN3JuZ3VFVmU3UHk5QT09 \nPlease come ready with your items to discuss\, 😘
URL:https://ffh.farm/event/events-kids-meeting/
LOCATION:Online
CATEGORIES:Events & Kids WG - FFH Calendar
END:VEVENT
END:VCALENDAR