BEGIN:VCALENDAR
VERSION:2.0
PRODID:-//The Farm - ECPv6.2.3.2//NONSGML v1.0//EN
CALSCALE:GREGORIAN
METHOD:PUBLISH
X-ORIGINAL-URL:https://ffh.farm
X-WR-CALDESC:Events for The Farm
REFRESH-INTERVAL;VALUE=DURATION:PT1H
X-Robots-Tag:noindex
X-PUBLISHED-TTL:PT1H
BEGIN:VTIMEZONE
TZID:Australia/Sydney
BEGIN:STANDARD
TZOFFSETFROM:+1100
TZOFFSETTO:+1000
TZNAME:AEST
DTSTART:20240406T160000
END:STANDARD
BEGIN:DAYLIGHT
TZOFFSETFROM:+1000
TZOFFSETTO:+1100
TZNAME:AEDT
DTSTART:20241005T160000
END:DAYLIGHT
END:VTIMEZONE
BEGIN:VEVENT
DTSTART;TZID=Australia/Sydney:20240108T190000
DTEND;TZID=Australia/Sydney:20240108T200000
DTSTAMP:20260420T161630
CREATED:20240213T032350Z
LAST-MODIFIED:20240213T032350Z
UID:10000071-1704740400-1704744000@ffh.farm
SUMMARY:Events & Kids Working Group Meeting
DESCRIPTION:First WG Meeting for the new year please use this link in Telegram to join. \n 
URL:https://ffh.farm/event/events-kids-working-group-meeting-4/
LOCATION:Online
CATEGORIES:Events & Kids WG - FFH Calendar
END:VEVENT
END:VCALENDAR