BEGIN:VCALENDAR
VERSION:2.0
PRODID:-//The Farm - ECPv6.2.3.2//NONSGML v1.0//EN
CALSCALE:GREGORIAN
METHOD:PUBLISH
X-WR-CALNAME:The Farm
X-ORIGINAL-URL:https://ffh.farm
X-WR-CALDESC:Events for The Farm
REFRESH-INTERVAL;VALUE=DURATION:PT1H
X-Robots-Tag:noindex
X-PUBLISHED-TTL:PT1H
BEGIN:VTIMEZONE
TZID:Australia/Sydney
BEGIN:STANDARD
TZOFFSETFROM:+1100
TZOFFSETTO:+1000
TZNAME:AEST
DTSTART:20240406T160000
END:STANDARD
BEGIN:DAYLIGHT
TZOFFSETFROM:+1000
TZOFFSETTO:+1100
TZNAME:AEDT
DTSTART:20241005T160000
END:DAYLIGHT
END:VTIMEZONE
BEGIN:VEVENT
DTSTART;TZID=Australia/Sydney:20240120T000000
DTEND;TZID=Australia/Sydney:20240122T235959
DTSTAMP:20260420T115124
CREATED:20231130T234417Z
LAST-MODIFIED:20240219T112540Z
UID:10000033-1705708800-1705967999@ffh.farm
SUMMARY:Farm Event – Strategy Weekend
DESCRIPTION:Andrew Zerner\, the RCS consultant is coming back to the farm in January next year.  He will be talking to the Board and Co-owners on Sunday 21 January.  We are suggesting that Co-owners may like to come to the farm on Saturday for a BBQ and then meet up with Andrew the next day.  At this stage\, we still have to liaise with the Board and the Camping WG to see if camping is possible at Salea that night (and perhaps Sunday night).
URL:https://ffh.farm/event/farm-event-details-to-be-confirmed/
LOCATION:FFH – Salea\, 2441 Salisbury Rd\, Salisbury\, NSW\, 2420\, Australia
CATEGORIES:Events & Kids WG - FFH Calendar
END:VEVENT
END:VCALENDAR