BEGIN:VCALENDAR
VERSION:2.0
PRODID:-//The Farm - ECPv6.2.3.2//NONSGML v1.0//EN
CALSCALE:GREGORIAN
METHOD:PUBLISH
X-WR-CALNAME:The Farm
X-ORIGINAL-URL:https://ffh.farm
X-WR-CALDESC:Events for The Farm
REFRESH-INTERVAL;VALUE=DURATION:PT1H
X-Robots-Tag:noindex
X-PUBLISHED-TTL:PT1H
BEGIN:VTIMEZONE
TZID:Australia/Sydney
BEGIN:STANDARD
TZOFFSETFROM:+1100
TZOFFSETTO:+1000
TZNAME:AEST
DTSTART:20250405T160000
END:STANDARD
BEGIN:DAYLIGHT
TZOFFSETFROM:+1000
TZOFFSETTO:+1100
TZNAME:AEDT
DTSTART:20251004T160000
END:DAYLIGHT
END:VTIMEZONE
BEGIN:VEVENT
DTSTART;TZID=Australia/Sydney:20250206T193000
DTEND;TZID=Australia/Sydney:20250206T210000
DTSTAMP:20260420T144728
CREATED:20250206T053827Z
LAST-MODIFIED:20250206T053827Z
UID:10000319-1738870200-1738875600@ffh.farm
SUMMARY:Members Garden – 2025 kick-off!
DESCRIPTION:Hi Folks\,\n\nGood news – we have established a fenced-off area at Hardview ready for interested co-owners to begin works to establish a co-owners members garden.\n\nWill Power has also put together an interesting permaculture garden plan for us to review and discuss – see attached.\n\nAs such please be invited to a Jitzi call at 7.30pm on Thursday 6th of February to discuss next steps.\n\nTopics and Items to discuss include:\n\nNomination of a leadership team for this work\nReview Will Power’s members garden plan\nAmount and type of storage space required\nSecuring a water source (stock water infrastructure and tank off proposed shed)\nDevelopment of a 2025 Planting and works schedule\n\n\nThe link for the call will be:\nhttps://meet.ecarer.com.au/wgroups\n\nLooking forward to seeing you there!\n\nRegards\,\n\nJP
URL:https://ffh.farm/event/members-garden-2025-kick-off/
LOCATION:Online
CATEGORIES:Gardening WG - FFH Calendar
END:VEVENT
END:VCALENDAR