BEGIN:VCALENDAR
VERSION:2.0
PRODID:-//The Farm - ECPv6.2.3.2//NONSGML v1.0//EN
CALSCALE:GREGORIAN
METHOD:PUBLISH
X-ORIGINAL-URL:https://ffh.farm
X-WR-CALDESC:Events for The Farm
REFRESH-INTERVAL;VALUE=DURATION:PT1H
X-Robots-Tag:noindex
X-PUBLISHED-TTL:PT1H
BEGIN:VTIMEZONE
TZID:Australia/Sydney
BEGIN:STANDARD
TZOFFSETFROM:+1100
TZOFFSETTO:+1000
TZNAME:AEST
DTSTART:20250405T160000
END:STANDARD
BEGIN:DAYLIGHT
TZOFFSETFROM:+1000
TZOFFSETTO:+1100
TZNAME:AEDT
DTSTART:20251004T160000
END:DAYLIGHT
END:VTIMEZONE
BEGIN:VEVENT
DTSTART;TZID=Australia/Sydney:20250520T193000
DTEND;TZID=Australia/Sydney:20250520T210000
DTSTAMP:20260420T161803
CREATED:20250518T120604Z
LAST-MODIFIED:20250518T120604Z
UID:10000382-1747769400-1747774800@ffh.farm
SUMMARY:Gardening Meeting
DESCRIPTION:Please be advised that Will Power has confirmed a date of 12th July to be on site to progress members garden works. If it works for you\, let’s discuss further on Tuesday 20th May at 7.30pm on Jitzi. https://meet.ecarer.com.au/wg
URL:https://ffh.farm/event/gardening-meeting/
LOCATION:Online
CATEGORIES:Gardening WG - FFH Calendar
END:VEVENT
END:VCALENDAR