BEGIN:VCALENDAR
VERSION:2.0
PRODID:-//The Farm - ECPv6.2.3.2//NONSGML v1.0//EN
CALSCALE:GREGORIAN
METHOD:PUBLISH
X-WR-CALNAME:The Farm
X-ORIGINAL-URL:https://ffh.farm
X-WR-CALDESC:Events for The Farm
REFRESH-INTERVAL;VALUE=DURATION:PT1H
X-Robots-Tag:noindex
X-PUBLISHED-TTL:PT1H
BEGIN:VTIMEZONE
TZID:Australia/Sydney
BEGIN:STANDARD
TZOFFSETFROM:+1100
TZOFFSETTO:+1000
TZNAME:AEST
DTSTART:20250405T160000
END:STANDARD
BEGIN:DAYLIGHT
TZOFFSETFROM:+1000
TZOFFSETTO:+1100
TZNAME:AEDT
DTSTART:20251004T160000
END:DAYLIGHT
END:VTIMEZONE
BEGIN:VEVENT
DTSTART;TZID=Australia/Sydney:20250707T193000
DTEND;TZID=Australia/Sydney:20250707T210000
DTSTAMP:20260420T090237
CREATED:20250623T230439Z
LAST-MODIFIED:20250623T230439Z
UID:10000405-1751916600-1751922000@ffh.farm
SUMMARY:Gardening Meeting - Members Garden Event Prep
DESCRIPTION:Next meeting – Monday 7.30pm 23rd\, 30th June and 7th July on https://meet.ecarer.com.au/wg \nTo discuss the members garden event on 12th July.
URL:https://ffh.farm/event/gardening-meeting-members-garden-event-prep/2025-07-07/
LOCATION:Online
CATEGORIES:Gardening WG - FFH Calendar
END:VEVENT
BEGIN:VEVENT
DTSTART;TZID=Australia/Sydney:20250712T090000
DTEND;TZID=Australia/Sydney:20250712T160000
DTSTAMP:20260420T090237
CREATED:20250518T120801Z
LAST-MODIFIED:20250518T120912Z
UID:10000383-1752310800-1752336000@ffh.farm
SUMMARY:Members Garden with Will Power
DESCRIPTION:Will Power has confirmed a date of 12th July to be on site to progress members garden works. Please join the gardening group meetings to find out more.
URL:https://ffh.farm/event/members-garden-with-will-power/
LOCATION:FFH – Hardview\, 2246 Salisbury Road\, Salisbury\, NSW\, 2420\, Australia
CATEGORIES:Gardening WG - FFH Calendar
END:VEVENT
END:VCALENDAR