BEGIN:VCALENDAR
VERSION:2.0
PRODID:-//The Farm - ECPv6.2.3.2//NONSGML v1.0//EN
CALSCALE:GREGORIAN
METHOD:PUBLISH
X-WR-CALNAME:The Farm
X-ORIGINAL-URL:https://ffh.farm
X-WR-CALDESC:Events for The Farm
REFRESH-INTERVAL;VALUE=DURATION:PT1H
X-Robots-Tag:noindex
X-PUBLISHED-TTL:PT1H
BEGIN:VTIMEZONE
TZID:Australia/Sydney
BEGIN:STANDARD
TZOFFSETFROM:+1100
TZOFFSETTO:+1000
TZNAME:AEST
DTSTART:20240406T160000
END:STANDARD
BEGIN:DAYLIGHT
TZOFFSETFROM:+1000
TZOFFSETTO:+1100
TZNAME:AEDT
DTSTART:20241005T160000
END:DAYLIGHT
END:VTIMEZONE
BEGIN:VEVENT
DTSTART;TZID=Australia/Sydney:20240206T193000
DTEND;TZID=Australia/Sydney:20240206T203000
DTSTAMP:20260421T083412
CREATED:20240202T013934Z
LAST-MODIFIED:20240202T013934Z
UID:10000063-1707247800-1707251400@ffh.farm
SUMMARY:EP Working Group Meeting
DESCRIPTION:Online catchup to review safety at the recent working bees\, review our vision for the group\, plus start work on the next high priority risks for the farm.
URL:https://ffh.farm/event/ep-working-group-meeting/
LOCATION:Online
CATEGORIES:Emergency Prep WG - FFH Calendar,Emergency Prep WG - Members Only
END:VEVENT
BEGIN:VEVENT
DTSTART;TZID=Australia/Sydney:20240213T193000
DTEND;TZID=Australia/Sydney:20240213T203000
DTSTAMP:20260421T083412
CREATED:20240202T015442Z
LAST-MODIFIED:20240202T015442Z
UID:10000064-1707852600-1707856200@ffh.farm
SUMMARY:EP Rabbit Hole Meeting
DESCRIPTION:As part of our Emergency Prep Risk Assessment discussions\, it was decided that we need a group of people to monitor and advise of any govt proposals or other upcoming events/ideas that may affect us or our farm.    As this will be our first meeting\, we will be discussing the structure of this group\, be looking for someone to volunteer as leader\, and discuss the key outcomes expected of this group.
URL:https://ffh.farm/event/ep-rabbit-hole-meeting/
LOCATION:Online
CATEGORIES:Emergency Prep WG - FFH Calendar,Emergency Prep WG - Members Only
END:VEVENT
BEGIN:VEVENT
DTSTART;TZID=Australia/Sydney:20240222T193000
DTEND;TZID=Australia/Sydney:20240222T210000
DTSTAMP:20260421T083412
CREATED:20240208T072132Z
LAST-MODIFIED:20240208T072132Z
UID:10000066-1708630200-1708635600@ffh.farm
SUMMARY:EP Working Group Meeting
DESCRIPTION:Continue working on our Risk Assessments
URL:https://ffh.farm/event/ep-working-group-meeting-2/
LOCATION:Online
CATEGORIES:Emergency Prep WG - FFH Calendar,Emergency Prep WG - Members Only
END:VEVENT
BEGIN:VEVENT
DTSTART;TZID=Australia/Sydney:20240226T193000
DTEND;TZID=Australia/Sydney:20240226T210000
DTSTAMP:20260421T083412
CREATED:20240225T224316Z
LAST-MODIFIED:20240225T224316Z
UID:10000146-1708975800-1708981200@ffh.farm
SUMMARY:EP Meeting
DESCRIPTION:EP assessing risks
URL:https://ffh.farm/event/ep-meeting-2/
LOCATION:Online
CATEGORIES:Emergency Prep WG - FFH Calendar,Emergency Prep WG - Members Only
END:VEVENT
END:VCALENDAR