BEGIN:VCALENDAR
VERSION:2.0
PRODID:-//The Farm - ECPv6.2.3.2//NONSGML v1.0//EN
CALSCALE:GREGORIAN
METHOD:PUBLISH
X-WR-CALNAME:The Farm
X-ORIGINAL-URL:https://ffh.farm
X-WR-CALDESC:Events for The Farm
REFRESH-INTERVAL;VALUE=DURATION:PT1H
X-Robots-Tag:noindex
X-PUBLISHED-TTL:PT1H
BEGIN:VTIMEZONE
TZID:Australia/Sydney
BEGIN:STANDARD
TZOFFSETFROM:+1100
TZOFFSETTO:+1000
TZNAME:AEST
DTSTART:20230401T160000
END:STANDARD
BEGIN:DAYLIGHT
TZOFFSETFROM:+1000
TZOFFSETTO:+1100
TZNAME:AEDT
DTSTART:20230930T160000
END:DAYLIGHT
END:VTIMEZONE
BEGIN:VEVENT
DTSTART;TZID=Australia/Sydney:20231123T080000
DTEND;TZID=Australia/Sydney:20231123T170000
DTSTAMP:20260424T233451
CREATED:20231123T100217Z
LAST-MODIFIED:20231123T100217Z
UID:10000018-1700726400-1700758800@ffh.farm
SUMMARY:Fire Brigade Farm Assessment
DESCRIPTION:This occurs Friday 24/11/23 at 1 pam
URL:https://ffh.farm/event/fire-brigade-farm-assessment/
LOCATION:FFH – Salea\, 2441 Salisbury Rd\, Salisbury\, NSW\, 2420\, Australia
CATEGORIES:Emergency Prep WG - FFH Calendar
END:VEVENT
END:VCALENDAR