BEGIN:VCALENDAR
VERSION:2.0
PRODID:-//The Farm - ECPv6.2.3.2//NONSGML v1.0//EN
CALSCALE:GREGORIAN
METHOD:PUBLISH
X-ORIGINAL-URL:https://ffh.farm
X-WR-CALDESC:Events for The Farm
REFRESH-INTERVAL;VALUE=DURATION:PT1H
X-Robots-Tag:noindex
X-PUBLISHED-TTL:PT1H
BEGIN:VTIMEZONE
TZID:Australia/Sydney
BEGIN:STANDARD
TZOFFSETFROM:+1100
TZOFFSETTO:+1000
TZNAME:AEST
DTSTART:20250405T160000
END:STANDARD
BEGIN:DAYLIGHT
TZOFFSETFROM:+1000
TZOFFSETTO:+1100
TZNAME:AEDT
DTSTART:20251004T160000
END:DAYLIGHT
BEGIN:STANDARD
TZOFFSETFROM:+1100
TZOFFSETTO:+1000
TZNAME:AEST
DTSTART:20260404T160000
END:STANDARD
BEGIN:DAYLIGHT
TZOFFSETFROM:+1000
TZOFFSETTO:+1100
TZNAME:AEDT
DTSTART:20261003T160000
END:DAYLIGHT
END:VTIMEZONE
BEGIN:VEVENT
DTSTART;TZID=Australia/Sydney:20251203T180000
DTEND;TZID=Australia/Sydney:20251203T190000
DTSTAMP:20260420T011006
CREATED:20251126T065548Z
LAST-MODIFIED:20251126T065548Z
UID:10000458-1764784800-1764788400@ffh.farm
SUMMARY:Meeting with Bricklet
DESCRIPTION:Call with Darren on latest updates.
URL:https://ffh.farm/event/meeting-with-bricklet/2025-12-03/
LOCATION:Online
CATEGORIES:Board - Members Only
END:VEVENT
BEGIN:VEVENT
DTSTART;TZID=Australia/Sydney:20251217T193000
DTEND;TZID=Australia/Sydney:20251217T220000
DTSTAMP:20260420T011006
CREATED:20260224T133050Z
LAST-MODIFIED:20260224T133050Z
UID:10000469-1765999800-1766008800@ffh.farm
SUMMARY:Board Meeting
DESCRIPTION:Board Meeting – Jitsi not available moved to zoom
URL:https://ffh.farm/event/board-meeting-30/2025-12-17/
LOCATION:Online
CATEGORIES:Board - Members Only
END:VEVENT
BEGIN:VEVENT
DTSTART;TZID=Australia/Sydney:20251219T000000
DTEND;TZID=Australia/Sydney:20251221T235959
DTSTAMP:20260420T011006
CREATED:20260224T133219Z
LAST-MODIFIED:20260224T133219Z
UID:10000472-1766102400-1766361599@ffh.farm
SUMMARY:Board Onsite Workshop
DESCRIPTION:Setting up workstreams for the management of the Board
URL:https://ffh.farm/event/board-onsite-workshop/
LOCATION:FFH – Salea\, 2441 Salisbury Rd\, Salisbury\, NSW\, 2420\, Australia
CATEGORIES:Board - Members Only
END:VEVENT
BEGIN:VEVENT
DTSTART;TZID=Australia/Sydney:20251223T140000
DTEND;TZID=Australia/Sydney:20251225T100000
DTSTAMP:20260420T011006
CREATED:20251002T120347Z
LAST-MODIFIED:20251002T120347Z
UID:10000432-1766498400-1766656800@ffh.farm
SUMMARY:Booking - House 2 - #7350
DESCRIPTION:
URL:https://ffh.farm/event/booking-house-2-7350/
CATEGORIES:Camping Bookings
END:VEVENT
BEGIN:VEVENT
DTSTART;TZID=Australia/Sydney:20251223T140000
DTEND;TZID=Australia/Sydney:20251225T100000
DTSTAMP:20260420T011006
CREATED:20251002T120418Z
LAST-MODIFIED:20251002T120418Z
UID:10000433-1766498400-1766656800@ffh.farm
SUMMARY:Booking - Parents Retreat - #7353
DESCRIPTION:
URL:https://ffh.farm/event/booking-parents-retreat-7353/
CATEGORIES:Accommodation Bookings
END:VEVENT
BEGIN:VEVENT
DTSTART;TZID=Australia/Sydney:20251225T140000
DTEND;TZID=Australia/Sydney:20251227T100000
DTSTAMP:20260420T011006
CREATED:20251006T123230Z
LAST-MODIFIED:20251006T123230Z
UID:10000436-1766671200-1766829600@ffh.farm
SUMMARY:Booking - House 2 - #7365
DESCRIPTION:
URL:https://ffh.farm/event/booking-house-2-7365/
CATEGORIES:Camping Bookings
END:VEVENT
BEGIN:VEVENT
DTSTART;TZID=Australia/Sydney:20251225T140000
DTEND;TZID=Australia/Sydney:20251227T100000
DTSTAMP:20260420T011006
CREATED:20251006T123309Z
LAST-MODIFIED:20251006T123309Z
UID:10000437-1766671200-1766829600@ffh.farm
SUMMARY:Booking - Parents Retreat - #7368
DESCRIPTION:
URL:https://ffh.farm/event/booking-parents-retreat-7368/
CATEGORIES:Accommodation Bookings
END:VEVENT
BEGIN:VEVENT
DTSTART;TZID=Australia/Sydney:20251227T140000
DTEND;TZID=Australia/Sydney:20260102T100000
DTSTAMP:20260420T011006
CREATED:20251006T123010Z
LAST-MODIFIED:20251006T123010Z
UID:10000434-1766844000-1767348000@ffh.farm
SUMMARY:Booking - House 2 - #7358
DESCRIPTION:
URL:https://ffh.farm/event/booking-house-2-7358/
CATEGORIES:Camping Bookings
END:VEVENT
BEGIN:VEVENT
DTSTART;TZID=Australia/Sydney:20251227T140000
DTEND;TZID=Australia/Sydney:20260102T100000
DTSTAMP:20260420T011006
CREATED:20251006T123034Z
LAST-MODIFIED:20251006T123034Z
UID:10000435-1766844000-1767348000@ffh.farm
SUMMARY:Booking - Parents Retreat - #7361
DESCRIPTION:
URL:https://ffh.farm/event/booking-parents-retreat-7361/
CATEGORIES:Accommodation Bookings
END:VEVENT
END:VCALENDAR